Workbook

Sheet BIL.PREV.
B1: A.V.I.S. - Associazione Volontari Italiani del Sangue | K1: 2020 | M1: =K1-1 -> 2019
A3: =" B I L A N C I O P R E V E N T I V O A N N O " &K1 -> B I L A N C I O P R E V E N T I V O A N N O 2020
A4: Cod. | B4: E N T R A T E | C4: Importo | D4: % | F4: Cod. | G4: U S C I T E | H4: Importo | I4: %
A5: =IF(C5>0.001,"ee10","") -> ee10 | B5: Contributi e Sovvenzioni Regionali | C5: 7355.84 | D5: =IF(C5>0,C5/C$35,"") -> 0.048340135 | F5: =IF(H5>0.001,"uu30","") -> uu30 | G5: Quote Associative | H5: 85527 | I5: =IF(H5>0,H5/H$35,"") -> 0.56205501
A6: =IF(C6>0.001,"ee11","") -> ee11 | B6: Altri contributi da Enti Pubblici e Privati | C6: 10960 | D6: =IF(C6>0,C6/C$35,"") -> 0.072025476 | F6: =IF(H6>0.001,"uu31","") -> uu31 | G6: Spese trasferte e rimborsi ad organi istituzionali | H6: 12000 | I6: =IF(H6>0,H6/H$35,"") -> 0.07886001
A7: =IF(C7>0.001,"ee12","") -> ee12 | B7: Quote Associative | C7: 122802.54 | D7: =IF(C7>0,C7/C$35,"") -> 0.80701746 | F7: =IF(H7>0.001,"uu32","") -> uu32 | G7: Spese x attività Avis giovani -organ.e partec.convegni-seminari- attività di formazione | H7: 3500 | I7: =IF(H7>0,H7/H$35,"") -> 0.023000836
A8: =IF(C8>0.001,"ee13","") -> ee13 | B8: Proventi da partecipazioni ad Emoservizi srl | C8: 50 | D8: =IF(C8>0,C8/C$35,"") -> 0.00032858338 | F8: =IF(H8>0.001,"uu33","") -> uu33 | G8: Spese finalità cinque per mille | H8: 500 | I8: =IF(H8>0,H8/H$35,"") -> 0.0032858338
A9: =IF(C9>0.001,"ee14","") -> ee14 | B9: Contributi cinque per mille | C9: 500 | D9: =IF(C9>0,C9/C$35,"") -> 0.0032858338 | F9: =IF(H9>0.001,"uu34","") -> uu34 | G9: Spese per pubblicità e promozione eventi | H9: 1950 | I9: =IF(H9>0,H9/H$35,"") -> 0.012814752
A10: =IF(C10>0.001,"ee15","") -> ee15 | B10: Contributi da Fondazioni | C10: 10000 | D10: =IF(C10>0,C10/C$35,"") -> 0.065716675 | F10: =IF(H10>0.001,"uu35","") -> uu35 | G10: Spese organizzazione Assemblea ed eventi | H10: 3000 | I10: =IF(H10>0,H10/H$35,"") -> 0.019715003
A11: =IF(C11>0.001,"ee16","") -> ee16 | B11: F/do Solidarietà | C11: 500 | D11: =IF(C11>0,C11/C$35,"") -> 0.0032858338 | F11: =IF(H11>0.001,"uu36","") -> uu36 | G11: Spese funzionamento segreteria-consulenza e collaborazioni professionali | H11: 1500 | I11: =IF(H11>0,H11/H$35,"") -> 0.0098575013
A12: =IF(C12>0.001,"ee17","") | D12: =IF(C12>0,C12/C$35,"") | F12: =IF(H12>0.001,"uu37","") -> uu37 | G12: Spese e Oneri Servizio Civile | H12: 2500 | I12: =IF(H12>0,H12/H$35,"") -> 0.016429169
A13: =IF(C13>0.001,"ee18","") | D13: =IF(C13>0,C13/C$35,"") | F13: =IF(H13>0.001,"uu38","") -> uu38 | G13: Spese gestione, manut. e riparazione automezzo e attrezz. | H13: 4675.57 | I13: =IF(H13>0,H13/H$35,"") -> 0.030726291
A14: =IF(C14>0.001,"ee19","") | D14: =IF(C14>0,C14/C$35,"") | F14: =IF(H14>0.001,"uu39","") -> uu39 | G14: Spese forfettarie compartecip.forniture luce, acqua e gas | H14: 100 | I14: =IF(H14>0,H14/H$35,"") -> 0.00065716675
A15: =IF(C15>0.001,"ee20","") | D15: =IF(C15>0,C15/C$35,"") | F15: =IF(H15>0.001,"uu40","") -> uu40 | G15: Spese di assicurazione | H15: 1700 | I15: =IF(H15>0,H15/H$35,"") -> 0.011171835
A16: =IF(C16>0.001,"ee21","") | D16: =IF(C16>0,C16/C$35,"") | F16: =IF(H16>0.001,"uu41","") -> uu41 | G16: Spese telefono - postali e valori bollati | H16: 2200 | I16: =IF(H16>0,H16/H$35,"") -> 0.014457669
A17: =IF(C17>0.001,"ee22","") | D17: =IF(C17>0,C17/C$35,"") | F17: =IF(H17>0.001,"uu42","") -> uu42 | G17: Spese per pulizia ed affitto locali | H17: 100 | I17: =IF(H17>0,H17/H$35,"") -> 0.00065716675
F18: =IF(H18>0.001,"uu43","") -> uu43 | G18: Spese per acquisto attrezzature e arredi | H18: 500 | I18: =IF(H18>0,H18/H$35,"") -> 0.0032858338
F19: =IF(H19>0.001,"uu44","") -> uu44 | G19: Spese di cancelleria e gestione ufficio | H19: 1500 | I19: =IF(H19>0,H19/H$35,"") -> 0.0098575013
F20: =IF(H20>0.001,"uu45","") -> uu45 | G20: Oneri fiscali e tributari | H20: 150 | I20: =IF(H20>0,H20/H$35,"") -> 0.00098575013
F21: =IF(H21>0.001,"uu46","") -> uu46 | G21: Oneri Bancari | H21: 500 | I21: =IF(H21>0,H21/H$35,"") -> 0.0032858338
F22: =IF(H22>0.001,"uu47","") -> uu47 | G22: Spese per progetti finanziati da Fondazioni e Cesv | H22: 10000 | I22: =IF(H22>0,H22/H$35,"") -> 0.065716675
F23: =IF(H23>0.001,"uu48","") -> uu48 | G23: Spese per progetti e iniziative di Solidarietà | H23: 500 | I23: =IF(H23>0,H23/H$35,"") -> 0.0032858338
F24: =IF(H24>0.001,"uu49","") -> uu49 | G24: Spese impreviste | H24: 100 | I24: =IF(H24>0,H24/H$35,"") -> 0.00065716675
F25: =IF(H25>0.001,"uu50","") -> uu50 | G25: retribuzione dipendente | H25: 2150 | I25: =IF(H25>0,H25/H$35,"") -> 0.014129085
F26: =IF(H26>0.001,"uu51","") -> uu51 | G26: oneri sociali | H26: 2200 | I26: =IF(H26>0,H26/H$35,"") -> 0.014457669
F27: =IF(H27>0.001,"uu52","") -> uu52 | G27: TFR | H27: 800 | I27: =IF(H27>0,H27/H$35,"") -> 0.005257334
F28: =IF(H28>0.001,"uu53","") -> uu53 | G28: Cofinanziamento progetto Best Choise quota corrente esercizio | H28: 14515.81 | I28: =IF(H28>0,H28/H$35,"") -> 0.095393077
F29: =IF(H29>0.001,"uu54","") | I29: =IF(H29>0,H29/H$35,"")
F30: =IF(H30>0.001,"uu55","") | I30: =IF(H30>0,H30/H$35,"")
F31: =IF(H31>0.001,"uu56","") | I31: =IF(H31>0,H31/H$35,"")
F32: =IF(H32>0.001,"uu57","") | I32: =IF(H32>0,H32/H$35,"")
B33: T O T A L E | C33: =SUM(C5:C18) -> 152168.38 | D33: =SUM(D5:D17) -> 1 | G33: T O T A L E | H33: =SUM(H5:H32) -> 152168.38 | I33: =SUM(I5:I32) -> 1
B34: =IF(K22>0,"F/Spese per progetti e iniziat. di solidarietà anno "&M1,"") | C34: =K22 -> 0 | D34: =IF(C34>0,C34/C$35,"") | G34: =IF(K30>0,"Disavanzo anno precedente - anno "&M1,"") | H34: =K30 -> 0 | I34: =IF(H34>0,H34/H$35,"")
B35: T O T A L E | C35: =SUM(C33:C34) -> 152168.38 | D35: =SUM(D33:D34) -> 1 | G35: T O T A L E | H35: =SUM(H33:H34) -> 152168.38 | I35: =SUM(I33:I34) -> 1
B36: PARTITE DI GIRO: | G36: PARTITE DI GIRO:
A37: =IF(C37>0.001,"ee24","") -> ee24 | B37: Organizzazione Assemblea Nazionale | C37: 6000 | F37: =IF(H37>0.001,"uu58","") -> uu58 | G37: Organizzazione Assemblea Nazionale | H37: =C37 -> 6000
A38: =IF(C38>0.001,"ee25","") -> ee25 | B38: Contributo da soci per partecipaz. eventi associativi | C38: 70000 | F38: =IF(H38>0.001,"uu59","") -> uu59 | G38: Spese partecipazione soci ad eventi associativi | H38: =C38 -> 70000
A39: T O T A L E E N T R A T E | C39: =SUM(C37:C38)+C35 -> 228168.38 | D39: =SUM(D35:D38) -> 1 | F39: T O T A L E U S C I T E | H39: =SUM(H37:H38)+H35 -> 228168.38 | I39: =SUM(I35:I38) -> 1
B41: Il Tesoriere | G41: Il Presidente
B42: ( ) | G42: ( )

Sheet 1^ NOTA CASSA
D5: A.V.I.S. - Associazione Volontari Italiani del Sangue
A6: =BIL.PREV.!A2:H2 -> 0
A7: PRIMA NOTA CASSA | G7: ANNO | H7: =BIL.PREV.!K1 -> 2020
A8: DATA | B8: REG. | D8: D E S C R I Z I O N E | F8: Cod. | G8: C A S S A | I8: BANCA XXXX | K8: BANCA Agricola pop | M8: S A L D O | R8: Contr. | T8: C A S S A | V8: B A N C A | X8: POSTA | AC8: Codice - Descrizione costo/ricavo | AJ8: U S C I T E
Q9: TOTALE
G10: ENTRATE | H10: USCITE | I10: ENTRATE | J10: USCITE | K10: ENTRATE | L10: USCITE | T10: ENTRATE | U10: USCITE | V10: ENTRATE | W10: USCITE | X10: ENTRATE | Y10: USCITE | AA10: Saldo bilancio | AB10: controllo | AJ10: cod | AK10: somma.più.se | AL10: cod | AM10: somma.più.se | AN10: TOTALE
A11: 39083 | B11: 1 | C11: =IF(G11+I11+K11>0,"e",IF(H11+J11+L11>0,"u",IF(G11+H11+I11+J11+K11+L11<0,""))) -> e | D11: ="Fondo Cassa al 1° gennaio "&$K$7 -> Fondo Cassa al 1° gennaio | F11: FC | G11: 434.24 | I11: 17740.45 | K11: 95.99 | M11: =+G11-H11+I11-J11+K11-L11 -> 18270.68 | N11: =(I11-J11)+(K11-L11) -> 17836.44 | O11: =IF(DISPONIBILITA!O46>=1,1,"") | P11: ee10 | Q11: =SUM(G11:L11) -> 18270.68 | AA11: =CONS.ENTR!F40-CONS.USC.!F52 -> 4218.04 | AB11: =$AA$11+M11 -> 22488.72
A12: 43837 | B12: =IF(Q12>0.00001,B11+1,"") -> 2 | C12: =IF(G12+I12+K12>0,"e",IF(H12+J12+L12>0,"u",IF(G12+H12+I12+J12+K12+L12<0,""))) -> u | D12: Competenze di chiusura anno 2019 | E12: =IF(Q12>0.0001,1) -> 1 | F12: uu46 | J12: 29.94 | M12: =IF(SUM(G12:L12)>0.00001,M11+G12-H12+I12-J12+K12-L12,"") -> 18240.74 | P12: ee11 | Q12: =SUM(G12:L12) -> 29.94 | R12: =LEFT(F12,2) -> uu | T12: =IF(R12="ee",G12,IF(R12="-u",G12,IF(R12="",G12,IF(R12="ra",G12,IF(R12="pr",G12,""))))) | U12: =IF(R12="uu",H12,IF(R12="-e",H12,IF(R12="",H12,IF(R12="rp",H12,IF(R12="ve",H12,""))))) -> 0 | V12: =IF(R12="ee",I12,IF(R12="-u",I12,IF(R12="",I12,IF(R12="ra",I12,IF(R12="ve",I12,""))))) | W12: =IF(R12="uu",J12,IF(R12="-e",J12,IF(R12="",J12,IF(R12="rp",J12,IF(R12="pr",J12,""))))) -> 29.94 | X12: =IF(R12="ee",K12,IF(R12="-u",K12,IF(R12="",K12,IF(R12="ra",K12,IF(R12="ve",K12,""))))) | Y12: =IF(R12="uu",L12,IF(R12="-e",L12,IF(R12="",L12,IF(R12="rp",L12,IF(R12="pr",L12,""))))) -> 0 | AB12: =$AA$11+M12 -> 22458.78 | AD12: =BIL.PREV.!A5 -> ee10 | AE12: =BIL.PREV.!B5 -> Contributi e Sovvenzioni Regionali | AF12: - | AG12: =CONCATENATE(AD12,AF12,AE12) -> ee10 - Contributi e Sovvenzioni Regionali | AH12: =LEFT($AC12,4) | AJ12: uu30 | AK12: =SUMIFS(Q$12:Q$1653,F$12:F$1653,"uu30") -> 0 | AL12: -u30 | AM12: =SUMIFS(Q$12:Q$1653,F$12:F$1653,"-u30") -> 0 | AN12: =AK12-AM12 -> 0
B13: =IF(Q13>0.00001,B12+1,"") | C13: =IF(G13+I13+K13>0,"e",IF(H13+J13+L13>0,"u",IF(G13+H13+I13+J13+K13+L13<0,""))) -> FALSE | E13: =IF(Q13>0.0001,1) -> FALSE | M13: =IF(SUM(G13:L13)>0.00001,M12+G13-H13+I13-J13+K13-L13,"") | P13: ee12 | Q13: =SUM(G13:L13) -> 0 | R13: =LEFT(F13,2) | T13: =IF(R13="ee",G13,IF(R13="-u",G13,IF(R13="",G13,IF(R13="ra",G13,IF(R13="pr",G13,""))))) -> 0 | U13: =IF(R13="uu",H13,IF(R13="-e",H13,IF(R13="",H13,IF(R13="rp",H13,IF(R13="ve",H13,""))))) -> 0 | V13: =IF(R13="ee",I13,IF(R13="-u",I13,IF(R13="",I13,IF(R13="ra",I13,IF(R13="ve",I13,""))))) -> 0 | W13: =IF(R13="uu",J13,IF(R13="-e",J13,IF(R13="",J13,IF(R13="rp",J13,IF(R13="pr",J13,""))))) -> 0 | X13: =IF(R13="ee",K13,IF(R13="-u",K13,IF(R13="",K13,IF(R13="ra",K13,IF(R13="ve",K13,""))))) -> 0 | Y13: =IF(R13="uu",L13,IF(R13="-e",L13,IF(R13="",L13,IF(R13="rp",L13,IF(R13="pr",L13,""))))) -> 0 | AB13: =$AA$11+M13 -> #VALUE! | AD13: =BIL.PREV.!A6 -> ee11 | AE13: =BIL.PREV.!B6 -> Altri contributi da Enti Pubblici e Privati | AF13: - | AG13: =CONCATENATE(AD13,AF13,AE13) -> ee11 - Altri contributi da Enti Pubblici e Privati | AH13: =LEFT($AC13,4) | AJ13: uu31 | AK13: =SUMIFS(Q$12:Q$1653,F$12:F$1653,"uu31") -> 0 | AL13: -u31 | AM13: =SUMIFS(Q$12:Q$1653,F$12:F$1653,"-u31") -> 0 | AN13: =AK13-AM13 -> 0
B14: =IF(Q14>0.00001,B13+1,"") | C14: =IF(G14+I14+K14>0,"e",IF(H14+J14+L14>0,"u",IF(G14+H14+I14+J14+K14+L14<0,""))) -> FALSE | E14: =IF(Q14>0.0001,1) -> FALSE | M14: =IF(SUM(G14:L14)>0.00001,M13+G14-H14+I14-J14+K14-L14,"") | P14: ee13 | Q14: =SUM(G14:L14) -> 0 | R14: =LEFT(F14,2) | T14: =IF(R14="ee",G14,IF(R14="-u",G14,IF(R14="",G14,IF(R14="ra",G14,IF(R14="pr",G14,""))))) -> 0 | U14: =IF(R14="uu",H14,IF(R14="-e",H14,IF(R14="",H14,IF(R14="rp",H14,IF(R14="ve",H14,""))))) -> 0 | V14: =IF(R14="ee",I14,IF(R14="-u",I14,IF(R14="",I14,IF(R14="ra",I14,IF(R14="ve",I14,""))))) -> 0 | W14: =IF(R14="uu",J14,IF(R14="-e",J14,IF(R14="",J14,IF(R14="rp",J14,IF(R14="pr",J14,""))))) -> 0 | X14: =IF(R14="ee",K14,IF(R14="-u",K14,IF(R14="",K14,IF(R14="ra",K14,IF(R14="ve",K14,""))))) -> 0 | Y14: =IF(R14="uu",L14,IF(R14="-e",L14,IF(R14="",L14,IF(R14="rp",L14,IF(R14="pr",L14,""))))) -> 0 | AB14: =$AA$11+M14 -> #VALUE! | AD14: =BIL.PREV.!A7 -> ee12 | AE14: =BIL.PREV.!B7 -> Quote Associative | AF14: - | AG14: =CONCATENATE(AD14,AF14,AE14) -> ee12 - Quote Associative | AH14: =LEFT($AC14,4) | AJ14: uu32 | AK14: =SUMIFS(Q$12:Q$1653,F$12:F$1653,"uu32") -> 0 | AL14: -u32 | AM14: =SUMIFS(Q$12:Q$1653,F$12:F$1653,"-u32") -> 0 | AN14: =AK14-AM14 -> 0
B15: =IF(Q15>0.00001,B14+1,"") | C15: =IF(G15+I15+K15>0,"e",IF(H15+J15+L15>0,"u",IF(G15+H15+I15+J15+K15+L15<0,""))) -> FALSE | E15: =IF(Q15>0.0001,1) -> FALSE | M15: =IF(SUM(G15:L15)>0.00001,M14+G15-H15+I15-J15+K15-L15,"") | P15: ee14 | Q15: =SUM(G15:L15) -> 0 | R15: =LEFT(F15,2) | T15: =IF(R15="ee",G15,IF(R15="-u",G15,IF(R15="",G15,IF(R15="ra",G15,IF(R15="pr",G15,""))))) -> 0 | U15: =IF(R15="uu",H15,IF(R15="-e",H15,IF(R15="",H15,IF(R15="rp",H15,IF(R15="ve",H15,""))))) -> 0 | V15: =IF(R15="ee",I15,IF(R15="-u",I15,IF(R15="",I15,IF(R15="ra",I15,IF(R15="ve",I15,""))))) -> 0 | W15: =IF(R15="uu",J15,IF(R15="-e",J15,IF(R15="",J15,IF(R15="rp",J15,IF(R15="pr",J15,""))))) -> 0 | X15: =IF(R15="ee",K15,IF(R15="-u",K15,IF(R15="",K15,IF(R15="ra",K15,IF(R15="ve",K15,""))))) -> 0 | Y15: =IF(R15="uu",L15,IF(R15="-e",L15,IF(R15="",L15,IF(R15="rp",L15,IF(R15="pr",L15,""))))) -> 0 | AB15: =$AA$11+M15 -> #VALUE! | AD15: =BIL.PREV.!A8 -> ee13 | AE15: =BIL.PREV.!B8 -> Proventi da partecipazioni ad Emoservizi srl | AF15: - | AG15: =CONCATENATE(AD15,AF15,AE15) -> ee13 - Proventi da partecipazioni ad Emoservizi srl | AH15: =LEFT($AC15,4) | AJ15: uu33 | AK15: =SUMIFS(Q$12:Q$1653,F$12:F$1653,"uu33") -> 0 | AL15: -u33 | AM15: =SUMIFS(Q$12:Q$1653,F$12:F$1653,"-u33") -> 0 | AN15: =AK15-AM15 -> 0
B16: =IF(Q16>0.00001,B15+1,"") | C16: =IF(G16+I16+K16>0,"e",IF(H16+J16+L16>0,"u",IF(G16+H16+I16+J16+K16+L16<0,""))) -> FALSE | E16: =IF(Q16>0.0001,1) -> FALSE | M16: =IF(SUM(G16:L16)>0.00001,M15+G16-H16+I16-J16+K16-L16,"") | P16: ee15 | Q16: =SUM(G16:L16) -> 0 | R16: =LEFT(F16,2) | T16: =IF(R16="ee",G16,IF(R16="-u",G16,IF(R16="",G16,IF(R16="ra",G16,IF(R16="pr",G16,""))))) -> 0 | U16: =IF(R16="uu",H16,IF(R16="-e",H16,IF(R16="",H16,IF(R16="rp",H16,IF(R16="ve",H16,""))))) -> 0 | V16: =IF(R16="ee",I16,IF(R16="-u",I16,IF(R16="",I16,IF(R16="ra",I16,IF(R16="ve",I16,""))))) -> 0 | W16: =IF(R16="uu",J16,IF(R16="-e",J16,IF(R16="",J16,IF(R16="rp",J16,IF(R16="pr",J16,""))))) -> 0 | X16: =IF(R16="ee",K16,IF(R16="-u",K16,IF(R16="",K16,IF(R16="ra",K16,IF(R16="ve",K16,""))))) -> 0 | Y16: =IF(R16="uu",L16,IF(R16="-e",L16,IF(R16="",L16,IF(R16="rp",L16,IF(R16="pr",L16,""))))) -> 0 | AB16: =$AA$11+M16 -> #VALUE! | AD16: =BIL.PREV.!A9 -> ee14 | AE16: =BIL.PREV.!B9 -> Contributi cinque per mille | AF16: - | AG16: =CONCATENATE(AD16,AF16,AE16) -> ee14 - Contributi cinque per mille | AH16: =LEFT($AC16,4) | AJ16: uu34 | AK16: =SUMIFS(Q$12:Q$1653,F$12:F$1653,"uu34") -> 0 | AL16: -u34 | AM16: =SUMIFS(Q$12:Q$1653,F$12:F$1653,"-u34") -> 0 | AN16: =AK16-AM16 -> 0
B17: =IF(Q17>0.00001,B16+1,"") | C17: =IF(G17+I17+K17>0,"e",IF(H17+J17+L17>0,"u",IF(G17+H17+I17+J17+K17+L17<0,""))) -> FALSE | E17: =IF(Q17>0.0001,1) -> FALSE | M17: =IF(SUM(G17:L17)>0.00001,M16+G17-H17+I17-J17+K17-L17,"") | P17: ee16 | Q17: =SUM(G17:L17) -> 0 | R17: =LEFT(F17,2) | T17: =IF(R17="ee",G17,IF(R17="-u",G17,IF(R17="",G17,IF(R17="ra",G17,IF(R17="pr",G17,""))))) -> 0 | U17: =IF(R17="uu",H17,IF(R17="-e",H17,IF(R17="",H17,IF(R17="rp",H17,IF(R17="ve",H17,""))))) -> 0 | V17: =IF(R17="ee",I17,IF(R17="-u",I17,IF(R17="",I17,IF(R17="ra",I17,IF(R17="ve",I17,""))))) -> 0 | W17: =IF(R17="uu",J17,IF(R17="-e",J17,IF(R17="",J17,IF(R17="rp",J17,IF(R17="pr",J17,""))))) -> 0 | X17: =IF(R17="ee",K17,IF(R17="-u",K17,IF(R17="",K17,IF(R17="ra",K17,IF(R17="ve",K17,""))))) -> 0 | Y17: =IF(R17="uu",L17,IF(R17="-e",L17,IF(R17="",L17,IF(R17="rp",L17,IF(R17="pr",L17,""))))) -> 0 | AB17: =$AA$11+M17 -> #VALUE! | AD17: =BIL.PREV.!A10 -> ee15 | AE17: =BIL.PREV.!B10 -> Contributi da Fondazioni | AF17: - | AG17: =CONCATENATE(AD17,AF17,AE17) -> ee15 - Contributi da Fondazioni | AH17: =LEFT($AC17,4) | AJ17: uu35 | AK17: =SUMIFS(Q$12:Q$1653,F$12:F$1653,"uu35") -> 0 | AL17: -u35 | AM17: =SUMIFS(Q$12:Q$1653,F$12:F$1653,"-u35") -> 0 | AN17: =AK17-AM17 -> 0
B18: =IF(Q18>0.00001,B17+1,"") | C18: =IF(G18+I18+K18>0,"e",IF(H18+J18+L18>0,"u",IF(G18+H18+I18+J18+K18+L18<0,""))) -> FALSE | E18: =IF(Q18>0.0001,1) -> FALSE | M18: =IF(SUM(G18:L18)>0.00001,M17+G18-H18+I18-J18+K18-L18,"") | P18: ee17 | Q18: =SUM(G18:L18) -> 0 | R18: =LEFT(F18,2) | T18: =IF(R18="ee",G18,IF(R18="-u",G18,IF(R18="",G18,IF(R18="ra",G18,IF(R18="pr",G18,""))))) -> 0 | U18: =IF(R18="uu",H18,IF(R18="-e",H18,IF(R18="",H18,IF(R18="rp",H18,IF(R18="ve",H18,""))))) -> 0 | V18: =IF(R18="ee",I18,IF(R18="-u",I18,IF(R18="",I18,IF(R18="ra",I18,IF(R18="ve",I18,""))))) -> 0 | W18: =IF(R18="uu",J18,IF(R18="-e",J18,IF(R18="",J18,IF(R18="rp",J18,IF(R18="pr",J18,""))))) -> 0 | X18: =IF(R18="ee",K18,IF(R18="-u",K18,IF(R18="",K18,IF(R18="ra",K18,IF(R18="ve",K18,""))))) -> 0 | Y18: =IF(R18="uu",L18,IF(R18="-e",L18,IF(R18="",L18,IF(R18="rp",L18,IF(R18="pr",L18,""))))) -> 0 | AB18: =$AA$11+M18 -> #VALUE! | AD18: =BIL.PREV.!A11 -> ee16 | AE18: =BIL.PREV.!B11 -> F/do Solidarietà | AF18: - | AG18: =CONCATENATE(AD18,AF18,AE18) -> ee16 - F/do Solidarietà | AH18: =LEFT($AC18,4) | AJ18: uu36 | AK18: =SUMIFS(Q$12:Q$1653,F$12:F$1653,"uu36") -> 0 | AL18: -u36 | AM18: =SUMIFS(Q$12:Q$1653,F$12:F$1653,"-u36") -> 0 | AN18: =AK18-AM18 -> 0
B19: =IF(Q19>0.00001,B18+1,"") | C19: =IF(G19+I19+K19>0,"e",IF(H19+J19+L19>0,"u",IF(G19+H19+I19+J19+K19+L19<0,""))) -> FALSE | E19: =IF(Q19>0.0001,1) -> FALSE | M19: =IF(SUM(G19:L19)>0.00001,M18+G19-H19+I19-J19+K19-L19,"") | P19: ee18 | Q19: =SUM(G19:L19) -> 0 | R19: =LEFT(F19,2) | T19: =IF(R19="ee",G19,IF(R19="-u",G19,IF(R19="",G19,IF(R19="ra",G19,IF(R19="pr",G19,""))))) -> 0 | U19: =IF(R19="uu",H19,IF(R19="-e",H19,IF(R19="",H19,IF(R19="rp",H19,IF(R19="ve",H19,""))))) -> 0 | V19: =IF(R19="ee",I19,IF(R19="-u",I19,IF(R19="",I19,IF(R19="ra",I19,IF(R19="ve",I19,""))))) -> 0 | W19: =IF(R19="uu",J19,IF(R19="-e",J19,IF(R19="",J19,IF(R19="rp",J19,IF(R19="pr",J19,""))))) -> 0 | X19: =IF(R19="ee",K19,IF(R19="-u",K19,IF(R19="",K19,IF(R19="ra",K19,IF(R19="ve",K19,""))))) -> 0 | Y19: =IF(R19="uu",L19,IF(R19="-e",L19,IF(R19="",L19,IF(R19="rp",L19,IF(R19="pr",L19,""))))) -> 0 | AB19: =$AA$11+M19 -> #VALUE! | AD19: =BIL.PREV.!A12 | AE19: =BIL.PREV.!B12 -> 0 | AF19: - | AG19: =CONCATENATE(AD19,AF19,AE19) -> - 0 | AH19: =LEFT($AC19,4) | AJ19: uu37 | AK19: =SUMIFS(Q$12:Q$1653,F$12:F$1653,"uu37") -> 0 | AL19: -u37 | AM19: =SUMIFS(Q$12:Q$1653,F$12:F$1653,"-u37") -> 0 | AN19: =AK19-AM19 -> 0
B20: =IF(Q20>0.00001,B19+1,"") | C20: =IF(G20+I20+K20>0,"e",IF(H20+J20+L20>0,"u",IF(G20+H20+I20+J20+K20+L20<0,""))) -> FALSE | E20: =IF(Q20>0.0001,1) -> FALSE | M20: =IF(SUM(G20:L20)>0.00001,M19+G20-H20+I20-J20+K20-L20,"") | P20: ee19 | Q20: =SUM(G20:L20) -> 0 | R20: =LEFT(F20,2) | T20: =IF(R20="ee",G20,IF(R20="-u",G20,IF(R20="",G20,IF(R20="ra",G20,IF(R20="pr",G20,""))))) -> 0 | U20: =IF(R20="uu",H20,IF(R20="-e",H20,IF(R20="",H20,IF(R20="rp",H20,IF(R20="ve",H20,""))))) -> 0 | V20: =IF(R20="ee",I20,IF(R20="-u",I20,IF(R20="",I20,IF(R20="ra",I20,IF(R20="ve",I20,""))))) -> 0 | W20: =IF(R20="uu",J20,IF(R20="-e",J20,IF(R20="",J20,IF(R20="rp",J20,IF(R20="pr",J20,""))))) -> 0 | X20: =IF(R20="ee",K20,IF(R20="-u",K20,IF(R20="",K20,IF(R20="ra",K20,IF(R20="ve",K20,""))))) -> 0 | Y20: =IF(R20="uu",L20,IF(R20="-e",L20,IF(R20="",L20,IF(R20="rp",L20,IF(R20="pr",L20,""))))) -> 0 | AB20: =$AA$11+M20 -> #VALUE! | AD20: =BIL.PREV.!A13 | AE20: =BIL.PREV.!B13 -> 0 | AF20: - | AG20: =CONCATENATE(AD20,AF20,AE20) -> - 0 | AH20: =LEFT($AC20,4) | AJ20: uu38 | AK20: =SUMIFS(Q$12:Q$1653,F$12:F$1653,"uu38") -> 0 | AL20: -u38 | AM20: =SUMIFS(Q$12:Q$1653,F$12:F$1653,"-u38") -> 0 | AN20: =AK20-AM20 -> 0
B21: =IF(Q21>0.00001,B20+1,"") | C21: =IF(G21+I21+K21>0,"e",IF(H21+J21+L21>0,"u",IF(G21+H21+I21+J21+K21+L21<0,""))) -> FALSE | E21: =IF(Q21>0.0001,1) -> FALSE | M21: =IF(SUM(G21:L21)>0.00001,M20+G21-H21+I21-J21+K21-L21,"") | P21: ee20 | Q21: =SUM(G21:L21) -> 0 | R21: =LEFT(F21,2) | T21: =IF(R21="ee",G21,IF(R21="-u",G21,IF(R21="",G21,IF(R21="ra",G21,IF(R21="pr",G21,""))))) -> 0 | U21: =IF(R21="uu",H21,IF(R21="-e",H21,IF(R21="",H21,IF(R21="rp",H21,IF(R21="ve",H21,""))))) -> 0 | V21: =IF(R21="ee",I21,IF(R21="-u",I21,IF(R21="",I21,IF(R21="ra",I21,IF(R21="ve",I21,""))))) -> 0 | W21: =IF(R21="uu",J21,IF(R21="-e",J21,IF(R21="",J21,IF(R21="rp",J21,IF(R21="pr",J21,""))))) -> 0 | X21: =IF(R21="ee",K21,IF(R21="-u",K21,IF(R21="",K21,IF(R21="ra",K21,IF(R21="ve",K21,""))))) -> 0 | Y21: =IF(R21="uu",L21,IF(R21="-e",L21,IF(R21="",L21,IF(R21="rp",L21,IF(R21="pr",L21,""))))) -> 0 | AB21: =$AA$11+M21 -> #VALUE! | AD21: =BIL.PREV.!A14 | AE21: =BIL.PREV.!B14 -> 0 | AF21: - | AG21: =CONCATENATE(AD21,AF21,AE21) -> - 0 | AH21: =LEFT($AC21,4) | AJ21: uu39 | AK21: =SUMIFS(Q$12:Q$1653,F$12:F$1653,"uu39") -> 0 | AL21: -u39 | AM21: =SUMIFS(Q$12:Q$1653,F$12:F$1653,"-u39") -> 0 | AN21: =AK21-AM21 -> 0
B22: =IF(Q22>0.00001,B21+1,"") | C22: =IF(G22+I22+K22>0,"e",IF(H22+J22+L22>0,"u",IF(G22+H22+I22+J22+K22+L22<0,""))) -> FALSE | E22: =IF(Q22>0.0001,1) -> FALSE | M22: =IF(SUM(G22:L22)>0.00001,M21+G22-H22+I22-J22+K22-L22,"") | P22: ee21 | Q22: =SUM(G22:L22) -> 0 | R22: =LEFT(F22,2) | T22: =IF(R22="ee",G22,IF(R22="-u",G22,IF(R22="",G22,IF(R22="ra",G22,IF(R22="pr",G22,""))))) -> 0 | U22: =IF(R22="uu",H22,IF(R22="-e",H22,IF(R22="",H22,IF(R22="rp",H22,IF(R22="ve",H22,""))))) -> 0 | V22: =IF(R22="ee",I22,IF(R22="-u",I22,IF(R22="",I22,IF(R22="ra",I22,IF(R22="ve",I22,""))))) -> 0 | W22: =IF(R22="uu",J22,IF(R22="-e",J22,IF(R22="",J22,IF(R22="rp",J22,IF(R22="pr",J22,""))))) -> 0 | X22: =IF(R22="ee",K22,IF(R22="-u",K22,IF(R22="",K22,IF(R22="ra",K22,IF(R22="ve",K22,""))))) -> 0 | Y22: =IF(R22="uu",L22,IF(R22="-e",L22,IF(R22="",L22,IF(R22="rp",L22,IF(R22="pr",L22,""))))) -> 0 | AB22: =$AA$11+M22 -> #VALUE! | AD22: =BIL.PREV.!A15 | AE22: =BIL.PREV.!B15 -> 0 | AF22: - | AG22: =CONCATENATE(AD22,AF22,AE22) -> - 0 | AH22: =LEFT($AC22,4) | AJ22: uu40 | AK22: =SUMIFS(Q$12:Q$1653,F$12:F$1653,"uu40") -> 0 | AL22: -u40 | AM22: =SUMIFS(Q$12:Q$1653,F$12:F$1653,"-u40") -> 0 | AN22: =AK22-AM22 -> 0
B23: =IF(Q23>0.00001,B22+1,"") | C23: =IF(G23+I23+K23>0,"e",IF(H23+J23+L23>0,"u",IF(G23+H23+I23+J23+K23+L23<0,""))) -> FALSE | E23: =IF(Q23>0.0001,1) -> FALSE | M23: =IF(SUM(G23:L23)>0.00001,M22+G23-H23+I23-J23+K23-L23,"") | P23: ee22 | Q23: =SUM(G23:L23) -> 0 | R23: =LEFT(F23,2) | T23: =IF(R23="ee",G23,IF(R23="-u",G23,IF(R23="",G23,IF(R23="ra",G23,IF(R23="pr",G23,""))))) -> 0 | U23: =IF(R23="uu",H23,IF(R23="-e",H23,IF(R23="",H23,IF(R23="rp",H23,IF(R23="ve",H23,""))))) -> 0 | V23: =IF(R23="ee",I23,IF(R23="-u",I23,IF(R23="",I23,IF(R23="ra",I23,IF(R23="ve",I23,""))))) -> 0 | W23: =IF(R23="uu",J23,IF(R23="-e",J23,IF(R23="",J23,IF(R23="rp",J23,IF(R23="pr",J23,""))))) -> 0 | X23: =IF(R23="ee",K23,IF(R23="-u",K23,IF(R23="",K23,IF(R23="ra",K23,IF(R23="ve",K23,""))))) -> 0 | Y23: =IF(R23="uu",L23,IF(R23="-e",L23,IF(R23="",L23,IF(R23="rp",L23,IF(R23="pr",L23,""))))) -> 0 | AB23: =$AA$11+M23 -> #VALUE! | AD23: =BIL.PREV.!A16 | AE23: =BIL.PREV.!B16 -> 0 | AF23: - | AG23: =CONCATENATE(AD23,AF23,AE23) -> - 0 | AH23: =LEFT($AC23,4) | AJ23: uu41 | AK23: =SUMIFS(Q$12:Q$1653,F$12:F$1653,"uu41") -> 0 | AL23: -u41 | AM23: =SUMIFS(Q$12:Q$1653,F$12:F$1653,"-u41") -> 0 | AN23: =AK23-AM23 -> 0 | AT23: 1
B24: =IF(Q24>0.00001,B23+1,"") | C24: =IF(G24+I24+K24>0,"e",IF(H24+J24+L24>0,"u",IF(G24+H24+I24+J24+K24+L24<0,""))) -> FALSE | E24: =IF(Q24>0.0001,1) -> FALSE | M24: =IF(SUM(G24:L24)>0.00001,M23+G24-H24+I24-J24+K24-L24,"") | P24: ee23 | Q24: =SUM(G24:L24) -> 0 | R24: =LEFT(F24,2) | T24: =IF(R24="ee",G24,IF(R24="-u",G24,IF(R24="",G24,IF(R24="ra",G24,IF(R24="pr",G24,""))))) -> 0 | U24: =IF(R24="uu",H24,IF(R24="-e",H24,IF(R24="",H24,IF(R24="rp",H24,IF(R24="ve",H24,""))))) -> 0 | V24: =IF(R24="ee",I24,IF(R24="-u",I24,IF(R24="",I24,IF(R24="ra",I24,IF(R24="ve",I24,""))))) -> 0 | W24: =IF(R24="uu",J24,IF(R24="-e",J24,IF(R24="",J24,IF(R24="rp",J24,IF(R24="pr",J24,""))))) -> 0 | X24: =IF(R24="ee",K24,IF(R24="-u",K24,IF(R24="",K24,IF(R24="ra",K24,IF(R24="ve",K24,""))))) -> 0 | Y24: =IF(R24="uu",L24,IF(R24="-e",L24,IF(R24="",L24,IF(R24="rp",L24,IF(R24="pr",L24,""))))) -> 0 | AB24: =$AA$11+M24 -> #VALUE! | AD24: =BIL.PREV.!A17 | AE24: =BIL.PREV.!B17 -> 0 | AF24: - | AG24: =CONCATENATE(AD24,AF24,AE24) -> - 0 | AH24: =LEFT($AC24,4) | AJ24: uu42 | AK24: =SUMIFS(Q$12:Q$1653,F$12:F$1653,"uu42") -> 0 | AL24: -u42 | AM24: =SUMIFS(Q$12:Q$1653,F$12:F$1653,"-u42") -> 0 | AN24: =AK24-AM24 -> 0
B25: =IF(Q25>0.00001,B24+1,"") | C25: =IF(G25+I25+K25>0,"e",IF(H25+J25+L25>0,"u",IF(G25+H25+I25+J25+K25+L25<0,""))) -> FALSE | E25: =IF(Q25>0.0001,1) -> FALSE | M25: =IF(SUM(G25:L25)>0.00001,M24+G25-H25+I25-J25+K25-L25,"") | P25: ee24 | Q25: =SUM(G25:L25) -> 0 | R25: =LEFT(F25,2) | T25: =IF(R25="ee",G25,IF(R25="-u",G25,IF(R25="",G25,IF(R25="ra",G25,IF(R25="pr",G25,""))))) -> 0 | U25: =IF(R25="uu",H25,IF(R25="-e",H25,IF(R25="",H25,IF(R25="rp",H25,IF(R25="ve",H25,""))))) -> 0 | V25: =IF(R25="ee",I25,IF(R25="-u",I25,IF(R25="",I25,IF(R25="ra",I25,IF(R25="ve",I25,""))))) -> 0 | W25: =IF(R25="uu",J25,IF(R25="-e",J25,IF(R25="",J25,IF(R25="rp",J25,IF(R25="pr",J25,""))))) -> 0 | X25: =IF(R25="ee",K25,IF(R25="-u",K25,IF(R25="",K25,IF(R25="ra",K25,IF(R25="ve",K25,""))))) -> 0 | Y25: =IF(R25="uu",L25,IF(R25="-e",L25,IF(R25="",L25,IF(R25="rp",L25,IF(R25="pr",L25,""))))) -> 0 | AB25: =$AA$11+M25 -> #VALUE! | AD25: =BIL.PREV.!A18 -> 0 | AE25: =BIL.PREV.!B18 -> 0 | AF25: - | AG25: =CONCATENATE(AD25,AF25,AE25) -> 0 - 0 | AH25: =LEFT($AC25,4) | AJ25: uu43 | AK25: =SUMIFS(Q$12:Q$1653,F$12:F$1653,"uu43") -> 0 | AL25: -u43 | AM25: =SUMIFS(Q$12:Q$1653,F$12:F$1653,"-u43") -> 0 | AN25: =AK25-AM25 -> 0
B26: =IF(Q26>0.00001,B25+1,"") | C26: =IF(G26+I26+K26>0,"e",IF(H26+J26+L26>0,"u",IF(G26+H26+I26+J26+K26+L26<0,""))) -> FALSE | E26: =IF(Q26>0.0001,1) -> FALSE | M26: =IF(SUM(G26:L26)>0.00001,M25+G26-H26+I26-J26+K26-L26,"") | P26: ee25 | Q26: =SUM(G26:L26) -> 0 | R26: =LEFT(F26,2) | T26: =IF(R26="ee",G26,IF(R26="-u",G26,IF(R26="",G26,IF(R26="ra",G26,IF(R26="pr",G26,""))))) -> 0 | U26: =IF(R26="uu",H26,IF(R26="-e",H26,IF(R26="",H26,IF(R26="rp",H26,IF(R26="ve",H26,""))))) -> 0 | V26: =IF(R26="ee",I26,IF(R26="-u",I26,IF(R26="",I26,IF(R26="ra",I26,IF(R26="ve",I26,""))))) -> 0 | W26: =IF(R26="uu",J26,IF(R26="-e",J26,IF(R26="",J26,IF(R26="rp",J26,IF(R26="pr",J26,""))))) -> 0 | X26: =IF(R26="ee",K26,IF(R26="-u",K26,IF(R26="",K26,IF(R26="ra",K26,IF(R26="ve",K26,""))))) -> 0 | Y26: =IF(R26="uu",L26,IF(R26="-e",L26,IF(R26="",L26,IF(R26="rp",L26,IF(R26="pr",L26,""))))) -> 0 | AB26: =$AA$11+M26 -> #VALUE! | AD26: =BIL.PREV.!A19 -> 0 | AE26: =BIL.PREV.!B19 -> 0 | AF26: - | AG26: =CONCATENATE(AD26,AF26,AE26) -> 0 - 0 | AH26: =LEFT($AC26,4) | AJ26: uu44 | AK26: =SUMIFS(Q$12:Q$1653,F$12:F$1653,"uu44") -> 0 | AL26: -u44 | AM26: =SUMIFS(Q$12:Q$1653,F$12:F$1653,"-u44") -> 0 | AN26: =AK26-AM26 -> 0
B27: =IF(Q27>0.00001,B26+1,"") | C27: =IF(G27+I27+K27>0,"e",IF(H27+J27+L27>0,"u",IF(G27+H27+I27+J27+K27+L27<0,""))) -> FALSE | E27: =IF(Q27>0.0001,1) -> FALSE | M27: =IF(SUM(G27:L27)>0.00001,M26+G27-H27+I27-J27+K27-L27,"") | Q27: =SUM(G27:L27) -> 0 | R27: =LEFT(F27,2) | T27: =IF(R27="ee",G27,IF(R27="-u",G27,IF(R27="",G27,IF(R27="ra",G27,IF(R27="pr",G27,""))))) -> 0 | U27: =IF(R27="uu",H27,IF(R27="-e",H27,IF(R27="",H27,IF(R27="rp",H27,IF(R27="ve",H27,""))))) -> 0 | V27: =IF(R27="ee",I27,IF(R27="-u",I27,IF(R27="",I27,IF(R27="ra",I27,IF(R27="ve",I27,""))))) -> 0 | W27: =IF(R27="uu",J27,IF(R27="-e",J27,IF(R27="",J27,IF(R27="rp",J27,IF(R27="pr",J27,""))))) -> 0 | X27: =IF(R27="ee",K27,IF(R27="-u",K27,IF(R27="",K27,IF(R27="ra",K27,IF(R27="ve",K27,""))))) -> 0 | Y27: =IF(R27="uu",L27,IF(R27="-e",L27,IF(R27="",L27,IF(R27="rp",L27,IF(R27="pr",L27,""))))) -> 0 | AB27: =$AA$11+M27 -> #VALUE! | AD27: =BIL.PREV.!A20 -> 0 | AE27: =BIL.PREV.!B20 -> 0 | AF27: - | AG27: =CONCATENATE(AD27,AF27,AE27) -> 0 - 0 | AH27: =LEFT($AC27,4) | AJ27: uu45 | AK27: =SUMIFS(Q$12:Q$1653,F$12:F$1653,"uu45") -> 0 | AL27: -u45 | AM27: =SUMIFS(Q$12:Q$1653,F$12:F$1653,"-u45") -> 0 | AN27: =AK27-AM27 -> 0
B28: =IF(Q28>0.00001,B27+1,"") | C28: =IF(G28+I28+K28>0,"e",IF(H28+J28+L28>0,"u",IF(G28+H28+I28+J28+K28+L28<0,""))) -> FALSE | E28: =IF(Q28>0.0001,1) -> FALSE | M28: =IF(SUM(G28:L28)>0.00001,M27+G28-H28+I28-J28+K28-L28,"") | Q28: =SUM(G28:L28) -> 0 | R28: =LEFT(F28,2) | T28: =IF(R28="ee",G28,IF(R28="-u",G28,IF(R28="",G28,IF(R28="ra",G28,IF(R28="pr",G28,""))))) -> 0 | U28: =IF(R28="uu",H28,IF(R28="-e",H28,IF(R28="",H28,IF(R28="rp",H28,IF(R28="ve",H28,""))))) -> 0 | V28: =IF(R28="ee",I28,IF(R28="-u",I28,IF(R28="",I28,IF(R28="ra",I28,IF(R28="ve",I28,""))))) -> 0 | W28: =IF(R28="uu",J28,IF(R28="-e",J28,IF(R28="",J28,IF(R28="rp",J28,IF(R28="pr",J28,""))))) -> 0 | X28: =IF(R28="ee",K28,IF(R28="-u",K28,IF(R28="",K28,IF(R28="ra",K28,IF(R28="ve",K28,""))))) -> 0 | Y28: =IF(R28="uu",L28,IF(R28="-e",L28,IF(R28="",L28,IF(R28="rp",L28,IF(R28="pr",L28,""))))) -> 0 | AB28: =$AA$11+M28 -> #VALUE! | AD28: =BIL.PREV.!A21 -> 0 | AE28: =BIL.PREV.!B21 -> 0 | AF28: - | AG28: =CONCATENATE(AD28,AF28,AE28) -> 0 - 0 | AH28: =LEFT($AC28,4) | AJ28: uu46 | AK28: =SUMIFS(Q$12:Q$1653,F$12:F$1653,"uu46") -> 29.94 | AL28: -u46 | AM28: =SUMIFS(Q$12:Q$1653,F$12:F$1653,"-u46") -> 0 | AN28: =AK28-AM28 -> 29.94
B29: =IF(Q29>0.00001,B28+1,"") | C29: =IF(G29+I29+K29>0,"e",IF(H29+J29+L29>0,"u",IF(G29+H29+I29+J29+K29+L29<0,""))) -> FALSE | E29: =IF(Q29>0.0001,1) -> FALSE | M29: =IF(SUM(G29:L29)>0.00001,M28+G29-H29+I29-J29+K29-L29,"") | P29: -e10 | Q29: =SUM(G29:L29) -> 0 | R29: =LEFT(F29,2) | T29: =IF(R29="ee",G29,IF(R29="-u",G29,IF(R29="",G29,IF(R29="ra",G29,IF(R29="pr",G29,""))))) -> 0 | U29: =IF(R29="uu",H29,IF(R29="-e",H29,IF(R29="",H29,IF(R29="rp",H29,IF(R29="ve",H29,""))))) -> 0 | V29: =IF(R29="ee",I29,IF(R29="-u",I29,IF(R29="",I29,IF(R29="ra",I29,IF(R29="ve",I29,""))))) -> 0 | W29: =IF(R29="uu",J29,IF(R29="-e",J29,IF(R29="",J29,IF(R29="rp",J29,IF(R29="pr",J29,""))))) -> 0 | X29: =IF(R29="ee",K29,IF(R29="-u",K29,IF(R29="",K29,IF(R29="ra",K29,IF(R29="ve",K29,""))))) -> 0 | Y29: =IF(R29="uu",L29,IF(R29="-e",L29,IF(R29="",L29,IF(R29="rp",L29,IF(R29="pr",L29,""))))) -> 0 | AB29: =$AA$11+M29 -> #VALUE! | AD29: =BIL.PREV.!A22 -> 0 | AE29: =BIL.PREV.!B22 -> 0 | AF29: - | AG29: =CONCATENATE(AD29,AF29,AE29) -> 0 - 0 | AH29: =LEFT($AC29,4) | AJ29: uu47 | AK29: =SUMIFS(Q$12:Q$1653,F$12:F$1653,"uu47") -> 0 | AL29: -u47 | AM29: =SUMIFS(Q$12:Q$1653,F$12:F$1653,"-u47") -> 0 | AN29: =AK29-AM29 -> 0
B30: =IF(Q30>0.00001,B29+1,"") | C30: =IF(G30+I30+K30>0,"e",IF(H30+J30+L30>0,"u",IF(G30+H30+I30+J30+K30+L30<0,""))) -> FALSE | E30: =IF(Q30>0.0001,1) -> FALSE | M30: =IF(SUM(G30:L30)>0.00001,M29+G30-H30+I30-J30+K30-L30,"") | P30: -e11 | Q30: =SUM(G30:L30) -> 0 | R30: =LEFT(F30,2) | T30: =IF(R30="ee",G30,IF(R30="-u",G30,IF(R30="",G30,IF(R30="ra",G30,IF(R30="pr",G30,""))))) -> 0 | U30: =IF(R30="uu",H30,IF(R30="-e",H30,IF(R30="",H30,IF(R30="rp",H30,IF(R30="ve",H30,""))))) -> 0 | V30: =IF(R30="ee",I30,IF(R30="-u",I30,IF(R30="",I30,IF(R30="ra",I30,IF(R30="ve",I30,""))))) -> 0 | W30: =IF(R30="uu",J30,IF(R30="-e",J30,IF(R30="",J30,IF(R30="rp",J30,IF(R30="pr",J30,""))))) -> 0 | X30: =IF(R30="ee",K30,IF(R30="-u",K30,IF(R30="",K30,IF(R30="ra",K30,IF(R30="ve",K30,""))))) -> 0 | Y30: =IF(R30="uu",L30,IF(R30="-e",L30,IF(R30="",L30,IF(R30="rp",L30,IF(R30="pr",L30,""))))) -> 0 | AB30: =$AA$11+M30 -> #VALUE! | AD30: -e10 | AE30: =AE12 -> Contributi e Sovvenzioni Regionali | AF30: - Addeb. somme per | AG30: =CONCATENATE(AD30,AF30,AE30) -> -e10 - Addeb. somme per Contributi e Sovvenzioni Regionali | AH30: =LEFT($AC30,4) | AJ30: uu48 | AK30: =SUMIFS(Q$12:Q$1653,F$12:F$1653,"uu48") -> 0 | AL30: -u48 | AM30: =SUMIFS(Q$12:Q$1653,F$12:F$1653,"-u48") -> 0 | AN30: =AK30-AM30 -> 0
B31: =IF(Q31>0.00001,B30+1,"") | C31: =IF(G31+I31+K31>0,"e",IF(H31+J31+L31>0,"u",IF(G31+H31+I31+J31+K31+L31<0,""))) -> FALSE | E31: =IF(Q31>0.0001,1) -> FALSE | M31: =IF(SUM(G31:L31)>0.00001,M30+G31-H31+I31-J31+K31-L31,"") | P31: -e12 | Q31: =SUM(G31:L31) -> 0 | R31: =LEFT(F31,2) | T31: =IF(R31="ee",G31,IF(R31="-u",G31,IF(R31="",G31,IF(R31="ra",G31,IF(R31="pr",G31,""))))) -> 0 | U31: =IF(R31="uu",H31,IF(R31="-e",H31,IF(R31="",H31,IF(R31="rp",H31,IF(R31="ve",H31,""))))) -> 0 | V31: =IF(R31="ee",I31,IF(R31="-u",I31,IF(R31="",I31,IF(R31="ra",I31,IF(R31="ve",I31,""))))) -> 0 | W31: =IF(R31="uu",J31,IF(R31="-e",J31,IF(R31="",J31,IF(R31="rp",J31,IF(R31="pr",J31,""))))) -> 0 | X31: =IF(R31="ee",K31,IF(R31="-u",K31,IF(R31="",K31,IF(R31="ra",K31,IF(R31="ve",K31,""))))) -> 0 | Y31: =IF(R31="uu",L31,IF(R31="-e",L31,IF(R31="",L31,IF(R31="rp",L31,IF(R31="pr",L31,""))))) -> 0 | AB31: =$AA$11+M31 -> #VALUE! | AD31: -e11 | AE31: =AE13 -> Altri contributi da Enti Pubblici e Privati | AF31: - Addeb. somme per | AG31: =CONCATENATE(AD31,AF31,AE31) -> -e11 - Addeb. somme per Altri contributi da Enti Pubblici e Privati | AH31: =LEFT($AC31,4) | AJ31: uu49 | AK31: =SUMIFS(Q$12:Q$1653,F$12:F$1653,"uu49") -> 0 | AL31: -u49 | AM31: =SUMIFS(Q$12:Q$1653,F$12:F$1653,"-u49") -> 0 | AN31: =AK31-AM31 -> 0
B32: =IF(Q32>0.00001,B31+1,"") | C32: =IF(G32+I32+K32>0,"e",IF(H32+J32+L32>0,"u",IF(G32+H32+I32+J32+K32+L32<0,""))) -> FALSE | E32: =IF(Q32>0.0001,1) -> FALSE | M32: =IF(SUM(G32:L32)>0.00001,M31+G32-H32+I32-J32+K32-L32,"") | P32: -e13 | Q32: =SUM(G32:L32) -> 0 | R32: =LEFT(F32,2) | T32: =IF(R32="ee",G32,IF(R32="-u",G32,IF(R32="",G32,IF(R32="ra",G32,IF(R32="pr",G32,""))))) -> 0 | U32: =IF(R32="uu",H32,IF(R32="-e",H32,IF(R32="",H32,IF(R32="rp",H32,IF(R32="ve",H32,""))))) -> 0 | V32: =IF(R32="ee",I32,IF(R32="-u",I32,IF(R32="",I32,IF(R32="ra",I32,IF(R32="ve",I32,""))))) -> 0 | W32: =IF(R32="uu",J32,IF(R32="-e",J32,IF(R32="",J32,IF(R32="rp",J32,IF(R32="pr",J32,""))))) -> 0 | X32: =IF(R32="ee",K32,IF(R32="-u",K32,IF(R32="",K32,IF(R32="ra",K32,IF(R32="ve",K32,""))))) -> 0 | Y32: =IF(R32="uu",L32,IF(R32="-e",L32,IF(R32="",L32,IF(R32="rp",L32,IF(R32="pr",L32,""))))) -> 0 | AB32: =$AA$11+M32 -> #VALUE! | AD32: -e12 | AE32: =AE14 -> Quote Associative | AF32: - Addeb. somme per | AG32: =CONCATENATE(AD32,AF32,AE32) -> -e12 - Addeb. somme per Quote Associative | AH32: =LEFT($AC32,4) | AJ32: uu50 | AK32: =SUMIFS(Q$12:Q$1653,F$12:F$1653,"uu50") -> 0 | AL32: -u50 | AM32: =SUMIFS(Q$12:Q$1653,F$12:F$1653,"-u50") -> 0 | AN32: =AK32-AM32 -> 0
B33: =IF(Q33>0.00001,B32+1,"") | C33: =IF(G33+I33+K33>0,"e",IF(H33+J33+L33>0,"u",IF(G33+H33+I33+J33+K33+L33<0,""))) -> FALSE | E33: =IF(Q33>0.0001,1) -> FALSE | M33: =IF(SUM(G33:L33)>0.00001,M32+G33-H33+I33-J33+K33-L33,"") | P33: -e14 | Q33: =SUM(G33:L33) -> 0 | R33: =LEFT(F33,2) | T33: =IF(R33="ee",G33,IF(R33="-u",G33,IF(R33="",G33,IF(R33="ra",G33,IF(R33="pr",G33,""))))) -> 0 | U33: =IF(R33="uu",H33,IF(R33="-e",H33,IF(R33="",H33,IF(R33="rp",H33,IF(R33="ve",H33,""))))) -> 0 | V33: =IF(R33="ee",I33,IF(R33="-u",I33,IF(R33="",I33,IF(R33="ra",I33,IF(R33="ve",I33,""))))) -> 0 | W33: =IF(R33="uu",J33,IF(R33="-e",J33,IF(R33="",J33,IF(R33="rp",J33,IF(R33="pr",J33,""))))) -> 0 | X33: =IF(R33="ee",K33,IF(R33="-u",K33,IF(R33="",K33,IF(R33="ra",K33,IF(R33="ve",K33,""))))) -> 0 | Y33: =IF(R33="uu",L33,IF(R33="-e",L33,IF(R33="",L33,IF(R33="rp",L33,IF(R33="pr",L33,""))))) -> 0 | AB33: =$AA$11+M33 -> #VALUE! | AD33: -e13 | AE33: =AE15 -> Proventi da partecipazioni ad Emoservizi srl | AF33: - Addeb. somme per | AG33: =CONCATENATE(AD33,AF33,AE33) -> -e13 - Addeb. somme per Proventi da partecipazioni ad Emoservizi srl | AH33: =LEFT($AC33,4) | AJ33: uu51 | AK33: =SUMIFS(Q$12:Q$1653,F$12:F$1653,"uu51") -> 0 | AL33: -u51 | AM33: =SUMIFS(Q$12:Q$1653,F$12:F$1653,"-u51") -> 0 | AN33: =AK33-AM33 -> 0
B34: =IF(Q34>0.00001,B33+1,"") | C34: =IF(G34+I34+K34>0,"e",IF(H34+J34+L34>0,"u",IF(G34+H34+I34+J34+K34+L34<0,""))) -> FALSE | E34: =IF(Q34>0.0001,1) -> FALSE | M34: =IF(SUM(G34:L34)>0.00001,M33+G34-H34+I34-J34+K34-L34,"") | P34: -e15 | Q34: =SUM(G34:L34) -> 0 | R34: =LEFT(F34,2) | T34: =IF(R34="ee",G34,IF(R34="-u",G34,IF(R34="",G34,IF(R34="ra",G34,IF(R34="pr",G34,""))))) -> 0 | U34: =IF(R34="uu",H34,IF(R34="-e",H34,IF(R34="",H34,IF(R34="rp",H34,IF(R34="ve",H34,""))))) -> 0 | V34: =IF(R34="ee",I34,IF(R34="-u",I34,IF(R34="",I34,IF(R34="ra",I34,IF(R34="ve",I34,""))))) -> 0 | W34: =IF(R34="uu",J34,IF(R34="-e",J34,IF(R34="",J34,IF(R34="rp",J34,IF(R34="pr",J34,""))))) -> 0 | X34: =IF(R34="ee",K34,IF(R34="-u",K34,IF(R34="",K34,IF(R34="ra",K34,IF(R34="ve",K34,""))))) -> 0 | Y34: =IF(R34="uu",L34,IF(R34="-e",L34,IF(R34="",L34,IF(R34="rp",L34,IF(R34="pr",L34,""))))) -> 0 | AB34: =$AA$11+M34 -> #VALUE! | AD34: -e14 | AE34: =AE16 -> Contributi cinque per mille | AF34: - Addeb. somme per | AG34: =CONCATENATE(AD34,AF34,AE34) -> -e14 - Addeb. somme per Contributi cinque per mille | AH34: =LEFT($AC34,4) | AJ34: uu52 | AK34: =SUMIFS(Q$12:Q$1653,F$12:F$1653,"uu52") -> 0 | AL34: -u52 | AM34: =SUMIFS(Q$12:Q$1653,F$12:F$1653,"-u52") -> 0 | AN34: =AK34-AM34 -> 0
B35: =IF(Q35>0.00001,B34+1,"") | C35: =IF(G35+I35+K35>0,"e",IF(H35+J35+L35>0,"u",IF(G35+H35+I35+J35+K35+L35<0,""))) -> FALSE | E35: =IF(Q35>0.0001,1) -> FALSE | M35: =IF(SUM(G35:L35)>0.00001,M34+G35-H35+I35-J35+K35-L35,"") | P35: -e16 | Q35: =SUM(G35:L35) -> 0 | R35: =LEFT(F35,2) | T35: =IF(R35="ee",G35,IF(R35="-u",G35,IF(R35="",G35,IF(R35="ra",G35,IF(R35="pr",G35,""))))) -> 0 | U35: =IF(R35="uu",H35,IF(R35="-e",H35,IF(R35="",H35,IF(R35="rp",H35,IF(R35="ve",H35,""))))) -> 0 | V35: =IF(R35="ee",I35,IF(R35="-u",I35,IF(R35="",I35,IF(R35="ra",I35,IF(R35="ve",I35,""))))) -> 0 | W35: =IF(R35="uu",J35,IF(R35="-e",J35,IF(R35="",J35,IF(R35="rp",J35,IF(R35="pr",J35,""))))) -> 0 | X35: =IF(R35="ee",K35,IF(R35="-u",K35,IF(R35="",K35,IF(R35="ra",K35,IF(R35="ve",K35,""))))) -> 0 | Y35: =IF(R35="uu",L35,IF(R35="-e",L35,IF(R35="",L35,IF(R35="rp",L35,IF(R35="pr",L35,""))))) -> 0 | AB35: =$AA$11+M35 -> #VALUE! | AD35: -e15 | AE35: =AE17 -> Contributi da Fondazioni | AF35: - Addeb. somme per | AG35: =CONCATENATE(AD35,AF35,AE35) -> -e15 - Addeb. somme per Contributi da Fondazioni | AH35: =LEFT($AC35,4) | AJ35: uu53 | AK35: =SUMIFS(Q$12:Q$1653,F$12:F$1653,"uu53") -> 0 | AL35: -u53 | AM35: =SUMIFS(Q$12:Q$1653,F$12:F$1653,"-u53") -> 0 | AN35: =AK35-AM35 -> 0
B36: =IF(Q36>0.00001,B35+1,"") | C36: =IF(G36+I36+K36>0,"e",IF(H36+J36+L36>0,"u",IF(G36+H36+I36+J36+K36+L36<0,""))) -> FALSE | E36: =IF(Q36>0.0001,1) -> FALSE | M36: =IF(SUM(G36:L36)>0.00001,M35+G36-H36+I36-J36+K36-L36,"") | P36: -e17 | Q36: =SUM(G36:L36) -> 0 | R36: =LEFT(F36,2) | T36: =IF(R36="ee",G36,IF(R36="-u",G36,IF(R36="",G36,IF(R36="ra",G36,IF(R36="pr",G36,""))))) -> 0 | U36: =IF(R36="uu",H36,IF(R36="-e",H36,IF(R36="",H36,IF(R36="rp",H36,IF(R36="ve",H36,""))))) -> 0 | V36: =IF(R36="ee",I36,IF(R36="-u",I36,IF(R36="",I36,IF(R36="ra",I36,IF(R36="ve",I36,""))))) -> 0 | W36: =IF(R36="uu",J36,IF(R36="-e",J36,IF(R36="",J36,IF(R36="rp",J36,IF(R36="pr",J36,""))))) -> 0 | X36: =IF(R36="ee",K36,IF(R36="-u",K36,IF(R36="",K36,IF(R36="ra",K36,IF(R36="ve",K36,""))))) -> 0 | Y36: =IF(R36="uu",L36,IF(R36="-e",L36,IF(R36="",L36,IF(R36="rp",L36,IF(R36="pr",L36,""))))) -> 0 | AB36: =$AA$11+M36 -> #VALUE! | AD36: -e16 | AE36: =AE18 -> F/do Solidarietà | AF36: - Addeb. somme per | AG36: =CONCATENATE(AD36,AF36,AE36) -> -e16 - Addeb. somme per F/do Solidarietà | AH36: =LEFT($AC36,4) | AJ36: uu54 | AK36: =SUMIFS(Q$12:Q$1653,F$12:F$1653,"uu54") -> 0 | AL36: -u54 | AM36: =SUMIFS(Q$12:Q$1653,F$12:F$1653,"-u54") -> 0 | AN36: =AK36-AM36 -> 0
B37: =IF(Q37>0.00001,B36+1,"") | C37: =IF(G37+I37+K37>0,"e",IF(H37+J37+L37>0,"u",IF(G37+H37+I37+J37+K37+L37<0,""))) -> FALSE | E37: =IF(Q37>0.0001,1) -> FALSE | M37: =IF(SUM(G37:L37)>0.00001,M36+G37-H37+I37-J37+K37-L37,"") | P37: -e18 | Q37: =SUM(G37:L37) -> 0 | R37: =LEFT(F37,2) | T37: =IF(R37="ee",G37,IF(R37="-u",G37,IF(R37="",G37,IF(R37="ra",G37,IF(R37="pr",G37,""))))) -> 0 | U37: =IF(R37="uu",H37,IF(R37="-e",H37,IF(R37="",H37,IF(R37="rp",H37,IF(R37="ve",H37,""))))) -> 0 | V37: =IF(R37="ee",I37,IF(R37="-u",I37,IF(R37="",I37,IF(R37="ra",I37,IF(R37="ve",I37,""))))) -> 0 | W37: =IF(R37="uu",J37,IF(R37="-e",J37,IF(R37="",J37,IF(R37="rp",J37,IF(R37="pr",J37,""))))) -> 0 | X37: =IF(R37="ee",K37,IF(R37="-u",K37,IF(R37="",K37,IF(R37="ra",K37,IF(R37="ve",K37,""))))) -> 0 | Y37: =IF(R37="uu",L37,IF(R37="-e",L37,IF(R37="",L37,IF(R37="rp",L37,IF(R37="pr",L37,""))))) -> 0 | AB37: =$AA$11+M37 -> #VALUE! | AD37: -e17 | AE37: =AE19 -> 0 | AF37: - Addeb. somme per | AG37: =CONCATENATE(AD37,AF37,AE37) -> -e17 - Addeb. somme per 0 | AH37: =LEFT($AC37,4) | AJ37: uu55 | AK37: =SUMIFS(Q$12:Q$1653,F$12:F$1653,"uu55") -> 0 | AL37: -u55 | AM37: =SUMIFS(Q$12:Q$1653,F$12:F$1653,"-u55") -> 0 | AN37: =AK37-AM37 -> 0
B38: =IF(Q38>0.00001,B37+1,"") | C38: =IF(G38+I38+K38>0,"e",IF(H38+J38+L38>0,"u",IF(G38+H38+I38+J38+K38+L38<0,""))) -> FALSE | E38: =IF(Q38>0.0001,1) -> FALSE | M38: =IF(SUM(G38:L38)>0.00001,M37+G38-H38+I38-J38+K38-L38,"") | P38: -e19 | Q38: =SUM(G38:L38) -> 0 | R38: =LEFT(F38,2) | T38: =IF(R38="ee",G38,IF(R38="-u",G38,IF(R38="",G38,IF(R38="ra",G38,IF(R38="pr",G38,""))))) -> 0 | U38: =IF(R38="uu",H38,IF(R38="-e",H38,IF(R38="",H38,IF(R38="rp",H38,IF(R38="ve",H38,""))))) -> 0 | V38: =IF(R38="ee",I38,IF(R38="-u",I38,IF(R38="",I38,IF(R38="ra",I38,IF(R38="ve",I38,""))))) -> 0 | W38: =IF(R38="uu",J38,IF(R38="-e",J38,IF(R38="",J38,IF(R38="rp",J38,IF(R38="pr",J38,""))))) -> 0 | X38: =IF(R38="ee",K38,IF(R38="-u",K38,IF(R38="",K38,IF(R38="ra",K38,IF(R38="ve",K38,""))))) -> 0 | Y38: =IF(R38="uu",L38,IF(R38="-e",L38,IF(R38="",L38,IF(R38="rp",L38,IF(R38="pr",L38,""))))) -> 0 | AB38: =$AA$11+M38 -> #VALUE! | AD38: -e18 | AE38: =AE20 -> 0 | AF38: - Addeb. somme per | AG38: =CONCATENATE(AD38,AF38,AE38) -> -e18 - Addeb. somme per 0 | AH38: =LEFT($AC38,4) | AJ38: uu56 | AK38: =SUMIFS(Q$12:Q$1653,F$12:F$1653,"uu56") -> 0 | AL38: -u56 | AM38: =SUMIFS(Q$12:Q$1653,F$12:F$1653,"-u56") -> 0 | AN38: =AK38-AM38 -> 0
B39: =IF(Q39>0.00001,#REF!+1,"") | P39: -e20 | T39: =IF(R39="ee",G39,IF(R39="-u",G39,IF(R39="",G39,IF(R39="ra",G39,IF(R39="pr",G39,""))))) -> 0 | U39: =IF(R39="uu",H39,IF(R39="-e",H39,IF(R39="",H39,IF(R39="rp",H39,IF(R39="ve",H39,""))))) -> 0 | V39: =IF(R39="ee",I39,IF(R39="-u",I39,IF(R39="",I39,IF(R39="ra",I39,IF(R39="ve",I39,""))))) -> 0 | W39: =IF(R39="uu",J39,IF(R39="-e",J39,IF(R39="",J39,IF(R39="rp",J39,IF(R39="pr",J39,""))))) -> 0 | X39: =IF(R39="ee",K39,IF(R39="-u",K39,IF(R39="",K39,IF(R39="ra",K39,IF(R39="ve",K39,""))))) -> 0 | Y39: =IF(R39="uu",L39,IF(R39="-e",L39,IF(R39="",L39,IF(R39="rp",L39,IF(R39="pr",L39,""))))) -> 0 | AD39: -e19 | AE39: =AE21 -> 0 | AF39: - Addeb. somme per | AG39: =CONCATENATE(AD39,AF39,AE39) -> -e19 - Addeb. somme per 0 | AH39: =LEFT($AC39,4) | AJ39: uu57 | AK39: =SUMIFS(Q$12:Q$1653,F$12:F$1653,"uu57") -> 0 | AL39: -u57 | AM39: =SUMIFS(Q$12:Q$1653,F$12:F$1653,"-u57") -> 0 | AN39: =AK39-AM39 -> 0
A40: R I E P I L O G H I | G40: C A S S A | I40: =I8 -> BANCA XXXX | K40: =K8 -> BANCA Agricola pop | M40: S A L D O | P40: -e21 | T40: =IF(R40="ee",G40,IF(R40="-u",G40,IF(R40="",G40,IF(R40="ra",G40,IF(R40="pr",G40,""))))) -> C A S S A | U40: =IF(R40="uu",H40,IF(R40="-e",H40,IF(R40="",H40,IF(R40="rp",H40,IF(R40="ve",H40,""))))) -> 0 | V40: =IF(R40="ee",I40,IF(R40="-u",I40,IF(R40="",I40,IF(R40="ra",I40,IF(R40="ve",I40,""))))) -> BANCA XXXX | W40: =IF(R40="uu",J40,IF(R40="-e",J40,IF(R40="",J40,IF(R40="rp",J40,IF(R40="pr",J40,""))))) -> 0 | X40: =IF(R40="ee",K40,IF(R40="-u",K40,IF(R40="",K40,IF(R40="ra",K40,IF(R40="ve",K40,""))))) -> BANCA Agricola pop | Y40: =IF(R40="uu",L40,IF(R40="-e",L40,IF(R40="",L40,IF(R40="rp",L40,IF(R40="pr",L40,""))))) -> 0 | AD40: -e20 | AE40: =AE22 -> 0 | AF40: - Addeb. somme per | AG40: =CONCATENATE(AD40,AF40,AE40) -> -e20 - Addeb. somme per 0 | AH40: =LEFT($AC40,4) | AJ40: uu58 | AK40: =SUMIFS(Q$12:Q$1653,F$12:F$1653,"uu58") -> 0 | AL40: -u58 | AM40: =SUMIFS(Q$12:Q$1653,F$12:F$1653,"-u58") -> 0 | AN40: =AK40-AM40 -> 0
G41: ENTRATE | H41: USCITE | I41: ENTRATE | J41: USCITE | K41: ENTRATE | L41: USCITE | P41: -e22 | T41: =IF(R41="ee",G41,IF(R41="-u",G41,IF(R41="",G41,IF(R41="ra",G41,IF(R41="pr",G41,""))))) -> ENTRATE | U41: =IF(R41="uu",H41,IF(R41="-e",H41,IF(R41="",H41,IF(R41="rp",H41,IF(R41="ve",H41,""))))) -> USCITE | V41: =IF(R41="ee",I41,IF(R41="-u",I41,IF(R41="",I41,IF(R41="ra",I41,IF(R41="ve",I41,""))))) -> ENTRATE | W41: =IF(R41="uu",J41,IF(R41="-e",J41,IF(R41="",J41,IF(R41="rp",J41,IF(R41="pr",J41,""))))) -> USCITE | X41: =IF(R41="ee",K41,IF(R41="-u",K41,IF(R41="",K41,IF(R41="ra",K41,IF(R41="ve",K41,""))))) -> ENTRATE | Y41: =IF(R41="uu",L41,IF(R41="-e",L41,IF(R41="",L41,IF(R41="rp",L41,IF(R41="pr",L41,""))))) -> USCITE | AD41: -e21 | AE41: =AE23 -> 0 | AF41: - Addeb. somme per | AG41: =CONCATENATE(AD41,AF41,AE41) -> -e21 - Addeb. somme per 0 | AH41: =LEFT($AC41,4) | AJ41: uu59 | AK41: =SUMIFS(Q$12:Q$1653,F$12:F$1653,"uu59") -> 0 | AL41: -u59 | AM41: =SUMIFS(Q$12:Q$1653,F$12:F$1653,"-u59") -> 0 | AN41: =AK41-AM41 -> 0
A42: Totali della pagina ………………………………. | G42: =SUM(G11:G38) -> 434.24 | H42: =SUM(H11:H38) -> 0 | I42: =SUM(I11:I38) -> 17740.45 | J42: =SUM(J11:J38) -> 29.94 | K42: =SUM(K11:K38) -> 95.99 | L42: =SUM(L11:L38) -> 0 | M42: =G42-H42+I42-J42+K42-L42 -> 18240.74 | P42: -e23 | T42: =IF(R42="ee",G42,IF(R42="-u",G42,IF(R42="",G42,IF(R42="ra",G42,IF(R42="pr",G42,""))))) -> 434.24 | U42: =IF(R42="uu",H42,IF(R42="-e",H42,IF(R42="",H42,IF(R42="rp",H42,IF(R42="ve",H42,""))))) -> 0 | V42: =IF(R42="ee",I42,IF(R42="-u",I42,IF(R42="",I42,IF(R42="ra",I42,IF(R42="ve",I42,""))))) -> 17740.45 | W42: =IF(R42="uu",J42,IF(R42="-e",J42,IF(R42="",J42,IF(R42="rp",J42,IF(R42="pr",J42,""))))) -> 29.94 | X42: =IF(R42="ee",K42,IF(R42="-u",K42,IF(R42="",K42,IF(R42="ra",K42,IF(R42="ve",K42,""))))) -> 95.99 | Y42: =IF(R42="uu",L42,IF(R42="-e",L42,IF(R42="",L42,IF(R42="rp",L42,IF(R42="pr",L42,""))))) -> 0 | AD42: -e22 | AE42: =AE24 -> 0 | AF42: - Addeb. somme per | AG42: =CONCATENATE(AD42,AF42,AE42) -> -e22 - Addeb. somme per 0 | AH42: =LEFT($AC42,4)
A43: S A L D I ………………………………….…..…. | G43: =G42-H42 -> 434.24 | I43: =I42-J42 -> 17710.51 | K43: =K42-L42 -> 95.99 | M43: =G43+I43+K43 -> 18240.74 | P43: -e24 | T43: =IF(R43="ee",G43,IF(R43="-u",G43,IF(R43="",G43,IF(R43="ra",G43,IF(R43="pr",G43,""))))) -> 434.24 | U43: =IF(R43="uu",H43,IF(R43="-e",H43,IF(R43="",H43,IF(R43="rp",H43,IF(R43="ve",H43,""))))) -> 0 | V43: =IF(R43="ee",I43,IF(R43="-u",I43,IF(R43="",I43,IF(R43="ra",I43,IF(R43="ve",I43,""))))) -> 17710.51 | W43: =IF(R43="uu",J43,IF(R43="-e",J43,IF(R43="",J43,IF(R43="rp",J43,IF(R43="pr",J43,""))))) -> 0 | X43: =IF(R43="ee",K43,IF(R43="-u",K43,IF(R43="",K43,IF(R43="ra",K43,IF(R43="ve",K43,""))))) -> 95.99 | Y43: =IF(R43="uu",L43,IF(R43="-e",L43,IF(R43="",L43,IF(R43="rp",L43,IF(R43="pr",L43,""))))) -> 0 | AD43: -e23 | AE43: =AE25 -> 0 | AF43: - Addeb. somme per | AG43: =CONCATENATE(AD43,AF43,AE43) -> -e23 - Addeb. somme per 0 | AH43: =LEFT($AC43,4)
B44: =IF(Q44>0.00001,B38+1,"") | C44: =IF(G44+I44+K44>0,"e",IF(H44+J44+L44>0,"u",IF(G44+H44+I44+J44+K44+L44<0,""))) -> FALSE | E44: =IF(Q44>0.0001,1) -> FALSE | M44: =IF(SUM(G44:L44)>0.00001,M43+G44-H44+I44-J44+K44-L44,"") | P44: -e25 | Q44: =SUM(G44:L44) -> 0 | R44: =LEFT(F44,2) | T44: =IF(R44="ee",G44,IF(R44="-u",G44,IF(R44="",G44,IF(R44="ra",G44,IF(R44="pr",G44,""))))) -> 0 | U44: =IF(R44="uu",H44,IF(R44="-e",H44,IF(R44="",H44,IF(R44="rp",H44,IF(R44="ve",H44,""))))) -> 0 | V44: =IF(R44="ee",I44,IF(R44="-u",I44,IF(R44="",I44,IF(R44="ra",I44,IF(R44="ve",I44,""))))) -> 0 | W44: =IF(R44="uu",J44,IF(R44="-e",J44,IF(R44="",J44,IF(R44="rp",J44,IF(R44="pr",J44,""))))) -> 0 | X44: =IF(R44="ee",K44,IF(R44="-u",K44,IF(R44="",K44,IF(R44="ra",K44,IF(R44="ve",K44,""))))) -> 0 | Y44: =IF(R44="uu",L44,IF(R44="-e",L44,IF(R44="",L44,IF(R44="rp",L44,IF(R44="pr",L44,""))))) -> 0 | AB44: =$AA$11+M44 -> #VALUE! | AD44: -e24 | AE44: =AE26 -> 0 | AF44: - Addeb. somme per | AG44: =CONCATENATE(AD44,AF44,AE44) -> -e24 - Addeb. somme per 0 | AH44: =LEFT($AC44,4)
...

Sheet IMPEGNI
B5: A.V.I.S. - Associazione Volontari Italiani del Sangue
A6: =BIL.PREV.!A2:H2 -> 0 | L6: Conta.più.se
A7: S O M M E I M P E G N A T E | D7: ANNO | E7: =BIL.PREV.!K1 -> 2020
A8: DATA | B8: D E S C R I Z I O N E | C8: Cod. | D8: S O M M E | G8: S A L D O | I8: U S C I T E
D10: IMPEGNATE | E10: PAGATE | F10: VARIAZIONI | I10: cod | J10: somma.più.se
G11: =IF(D11>0,D11-E11-F11,"") | H11: =IF(G11="","",C11) | I11: uu30 | J11: =SUMIFS(G$11:G$531,C$11:C$531,"uu30") -> 0 | L11: =COUNTIFS(H$11:H$531,"=uu30") -> 0
G12: =IF(D12>0,D12-E12-F12,"") | H12: =IF(G12="","",C12) | I12: uu31 | J12: =SUMIFS(G$11:G$531,C$11:C$531,"uu31") -> 0 | L12: =COUNTIFS(H$11:H$531,"=uu31") -> 0
G13: =IF(D13>0,D13-E13-F13,"") | H13: =IF(G13="","",C13) | I13: uu32 | J13: =SUMIFS(G$11:G$531,C$11:C$531,"uu32") -> 0 | L13: =COUNTIFS(H$11:H$531,"=uu32") -> 0
G14: =IF(D14>0,D14-E14-F14,"") | H14: =IF(G14="","",C14) | I14: uu33 | J14: =SUMIFS(G$11:G$531,C$11:C$531,"uu33") -> 0 | L14: =COUNTIFS(H$11:H$531,"=uu33") -> 0
G15: =IF(D15>0,D15-E15-F15,"") | H15: =IF(G15="","",C15) | I15: uu34 | J15: =SUMIFS(G$11:G$531,C$11:C$531,"uu34") -> 0 | L15: =COUNTIFS(H$11:H$531,"=uu34") -> 0
G16: =IF(D16>0,D16-E16-F16,"") | H16: =IF(G16="","",C16) | I16: uu35 | J16: =SUMIFS(G$11:G$531,C$11:C$531,"uu35") -> 0 | L16: =COUNTIFS(H$11:H$531,"=uu35") -> 0
G17: =IF(D17>0,D17-E17-F17,"") | H17: =IF(G17="","",C17) | I17: uu36 | J17: =SUMIFS(G$11:G$531,C$11:C$531,"uu36") -> 0 | L17: =COUNTIFS(H$11:H$531,"=uu36") -> 0
G18: =IF(D18>0,D18-E18-F18,"") | H18: =IF(G18="","",C18) | I18: uu37 | J18: =SUMIFS(G$11:G$531,C$11:C$531,"uu37") -> 0 | L18: =COUNTIFS(H$11:H$531,"=uu37") -> 0
G19: =IF(D19>0,D19-E19-F19,"") | H19: =IF(G19="","",C19) | I19: uu38 | J19: =SUMIFS(G$11:G$531,C$11:C$531,"uu38") -> 0 | L19: =COUNTIFS(H$11:H$531,"=uu38") -> 0
G20: =IF(D20>0,D20-E20-F20,"") | H20: =IF(G20="","",C20) | I20: uu39 | J20: =SUMIFS(G$11:G$531,C$11:C$531,"uu39") -> 0 | L20: =COUNTIFS(H$11:H$531,"=uu39") -> 0
G21: =IF(D21>0,D21-E21-F21,"") | H21: =IF(G21="","",C21) | I21: uu40 | J21: =SUMIFS(G$11:G$531,C$11:C$531,"uu40") -> 0 | L21: =COUNTIFS(H$11:H$531,"=uu40") -> 0
G22: =IF(D22>0,D22-E22-F22,"") | H22: =IF(G22="","",C22) | I22: uu41 | J22: =SUMIFS(G$11:G$531,C$11:C$531,"uu41") -> 0 | L22: =COUNTIFS(H$11:H$531,"=uu41") -> 0 | N22: 1
G23: =IF(D23>0,D23-E23-F23,"") | H23: =IF(G23="","",C23) | I23: uu42 | J23: =SUMIFS(G$11:G$531,C$11:C$531,"uu42") -> 0 | L23: =COUNTIFS(H$11:H$531,"=uu42") -> 0
G24: =IF(D24>0,D24-E24-F24,"") | H24: =IF(G24="","",C24) | I24: uu43 | J24: =SUMIFS(G$11:G$531,C$11:C$531,"uu43") -> 0 | L24: =COUNTIFS(H$11:H$531,"=uu43") -> 0
G25: =IF(D25>0,D25-E25-F25,"") | H25: =IF(G25="","",C25) | I25: uu44 | J25: =SUMIFS(G$11:G$531,C$11:C$531,"uu44") -> 0 | L25: =COUNTIFS(H$11:H$531,"=uu44") -> 0
G26: =IF(D26>0,D26-E26-F26,"") | H26: =IF(G26="","",C26) | I26: uu45 | J26: =SUMIFS(G$11:G$531,C$11:C$531,"uu45") -> 0 | L26: =COUNTIFS(H$11:H$531,"=uu45") -> 0
G27: =IF(D27>0,D27-E27-F27,"") | H27: =IF(G27="","",C27) | I27: uu46 | J27: =SUMIFS(G$11:G$531,C$11:C$531,"uu46") -> 0 | L27: =COUNTIFS(H$11:H$531,"=uu46") -> 0
G28: =IF(D28>0,D28-E28-F28,"") | H28: =IF(G28="","",C28) | I28: uu47 | J28: =SUMIFS(G$11:G$531,C$11:C$531,"uu47") -> 0 | L28: =COUNTIFS(H$11:H$531,"=uu47") -> 0
G29: =IF(D29>0,D29-E29-F29,"") | H29: =IF(G29="","",C29) | I29: uu48 | J29: =SUMIFS(G$11:G$531,C$11:C$531,"uu48") -> 0 | L29: =COUNTIFS(H$11:H$531,"=uu48") -> 0
G30: =IF(D30>0,D30-E30-F30,"") | H30: =IF(G30="","",C30) | I30: uu49 | J30: =SUMIFS(G$11:G$531,C$11:C$531,"uu49") -> 0 | L30: =COUNTIFS(H$11:H$531,"=uu49") -> 0
G31: =IF(D31>0,D31-E31-F31,"") | H31: =IF(G31="","",C31) | I31: uu50 | J31: =SUMIFS(G$11:G$531,C$11:C$531,"uu50") -> 0 | L31: =COUNTIFS(H$11:H$531,"=uu50") -> 0
G32: =IF(D32>0,D32-E32-F32,"") | H32: =IF(G32="","",C32) | I32: uu51 | J32: =SUMIFS(G$11:G$531,C$11:C$531,"uu51") -> 0 | L32: =COUNTIFS(H$11:H$531,"=uu51") -> 0
G33: =IF(D33>0,D33-E33-F33,"") | H33: =IF(G33="","",C33) | I33: uu52 | J33: =SUMIFS(G$11:G$531,C$11:C$531,"uu52") -> 0 | L33: =COUNTIFS(H$11:H$531,"=uu52") -> 0
G34: =IF(D34>0,D34-E34-F34,"") | H34: =IF(G34="","",C34) | I34: uu53 | J34: =SUMIFS(G$11:G$531,C$11:C$531,"uu53") -> 0 | L34: =COUNTIFS(H$11:H$531,"=uu53") -> 0
G35: =IF(D35>0,D35-E35-F35,"") | H35: =IF(G35="","",C35) | I35: uu54 | J35: =SUMIFS(G$11:G$531,C$11:C$531,"uu54") -> 0 | L35: =COUNTIFS(H$11:H$531,"=uu54") -> 0
G36: =IF(D36>0,D36-E36-F36,"") | H36: =IF(G36="","",C36) | I36: uu55 | J36: =SUMIFS(G$11:G$531,C$11:C$531,"uu55") -> 0 | L36: =COUNTIFS(H$11:H$531,"=uu55") -> 0
G37: =IF(D37>0,D37-E37-F37,"") | H37: =IF(G37="","",C37) | I37: uu56 | J37: =SUMIFS(G$11:G$531,C$11:C$531,"uu56") -> 0 | L37: =COUNTIFS(H$11:H$531,"=uu56") -> 0
G38: =IF(D38>0,D38-E38-F38,"") | H38: =IF(G38="","",C38) | I38: uu57 | J38: =SUMIFS(G$11:G$531,C$11:C$531,"uu57") -> 0 | L38: =COUNTIFS(H$11:H$531,"=uu57") -> 0
G39: =IF(D39>0,D39-E39-F39,"") | H39: =IF(G39="","",C39) | I39: uu58 | J39: =SUMIFS(G$11:G$531,C$11:C$531,"uu58") -> 0 | L39: =COUNTIFS(H$11:H$531,"=uu58") -> 0
G40: =IF(D40>0,D40-E40-F40,"") | H40: =IF(G40="","",C40) | I40: uu59 | J40: =SUMIFS(G$11:G$531,C$11:C$531,"uu59") -> 0 | L40: =COUNTIFS(H$11:H$531,"=uu59") -> 0
G41: =IF(D41>0,D41-E41-F41,"") | H41: =IF(G41="","",C41)
G42: =IF(D42>0,D42-E42-F42,"") | H42: =IF(G42="","",C42)
G43: =IF(D43>0,D43-E43-F43,"") | H43: =IF(G43="","",C43)
G44: =IF(D44>0,D44-E44-F44,"") | H44: =IF(G44="","",C44)
G45: =IF(D45>0,D45-E45-F45,"") | H45: =IF(G45="","",C45)
...

Sheet DISPONIBILITA
M1: =BIL.PREV.!K1 -> 2020
B2: A.V.I.S. - Associazione Volontari Italiani del Sangue
A3: =BIL.PREV.!A2:H2 -> 0
A4: ="DISPONIBILITA' USCITE - A N N O "&$M$1 -> DISPONIBILITA' USCITE - A N N O 2020
A5: Cod. | B5: D E S C R I Z I O N E | C5: ="A N N O "&$M$1 -> A N N O 2020 | G5: ="Rendiconto di Gestione anno "&$I$2-1 -> Rendiconto di Gestione anno -1 | H5: N. impegni da pagare | L5: SOMME IMPEGNATE e non ancora pagate | M5: controllo | N5: DISPONIBILITÀ (differrenza fra previsioni meno totale uscite e meno somme impegnate) | O5: Controllo
C6: Previsione | D6: Somme pagate | E6: Residui Passivi da pagare | F6: TOTALE uscite | I6: BILANCIO PREVISIONE | J6: DISPONIBILITÀ (differenza bilancio previs. meno uscite)
A7: =BIL.PREV.!F5 -> uu30 | B7: =BIL.PREV.!G5 -> Quote Associative | C7: =BIL.PREV.!H5 -> 85527 | D7: ='1^ NOTA CASSA'!AN12 -> 0 | E7: =RR.PP.!S$41 -> 0 | F7: =D7+E7 -> 0 | H7: =IMPEGNI!L11 -> 0 | I7: =BIL.PREV.!H5 -> 85527 | J7: =I7-#REF! -> #REF! | L7: =IMPEGNI!J11 -> 0 | M7: =IF(L7<0,"1","") | N7: =C7-F7-L7 -> 85527 | O7: =IF(N7<0,"1","")
A8: =BIL.PREV.!F6 -> uu31 | B8: =BIL.PREV.!G6 -> Spese trasferte e rimborsi ad organi istituzionali | C8: =BIL.PREV.!H6 -> 12000 | D8: ='1^ NOTA CASSA'!AN13 -> 0 | E8: =RR.PP.!T$41 -> 0 | F8: =D8+E8 -> 0 | H8: =IMPEGNI!L12 -> 0 | I8: =BIL.PREV.!H6 -> 12000 | J8: =I8-#REF! -> #REF! | L8: =IMPEGNI!J12 -> 0 | M8: =IF(L8<0,"1","") | N8: =C8-F8-L8 -> 12000 | O8: =IF(N8<0,"1","")
A9: =BIL.PREV.!F7 -> uu32 | B9: =BIL.PREV.!G7 -> Spese x attività Avis giovani -organ.e partec.convegni-seminari- attività di formazione | C9: =BIL.PREV.!H7 -> 3500 | D9: ='1^ NOTA CASSA'!AN14 -> 0 | E9: =RR.PP.!U$41 -> 0 | F9: =D9+E9 -> 0 | H9: =IMPEGNI!L13 -> 0 | I9: =BIL.PREV.!H7 -> 3500 | J9: =I9-#REF! -> #REF! | L9: =IMPEGNI!J13 -> 0 | M9: =IF(L9<0,"1","") | N9: =C9-F9-L9 -> 3500 | O9: =IF(N9<0,"1","")
A10: =BIL.PREV.!F8 -> uu33 | B10: =BIL.PREV.!G8 -> Spese finalità cinque per mille | C10: =BIL.PREV.!H8 -> 500 | D10: ='1^ NOTA CASSA'!AN15 -> 0 | E10: =RR.PP.!V$41 -> 0 | F10: =D10+E10 -> 0 | H10: =IMPEGNI!L14 -> 0 | I10: =BIL.PREV.!H8 -> 500 | J10: =I10-#REF! -> #REF! | L10: =IMPEGNI!J14 -> 0 | M10: =IF(L10<0,"1","") | N10: =C10-F10-L10 -> 500 | O10: =IF(N10<0,"1","")
A11: =BIL.PREV.!F9 -> uu34 | B11: =BIL.PREV.!G9 -> Spese per pubblicità e promozione eventi | C11: =BIL.PREV.!H9 -> 1950 | D11: ='1^ NOTA CASSA'!AN16 -> 0 | E11: =RR.PP.!W$41 -> 0 | F11: =D11+E11 -> 0 | H11: =IMPEGNI!L15 -> 0 | I11: =BIL.PREV.!H9 -> 1950 | J11: =I11-#REF! -> #REF! | L11: =IMPEGNI!J15 -> 0 | M11: =IF(L11<0,"1","") | N11: =C11-F11-L11 -> 1950 | O11: =IF(N11<0,"1","")
A12: =BIL.PREV.!F10 -> uu35 | B12: =BIL.PREV.!G10 -> Spese organizzazione Assemblea ed eventi | C12: =BIL.PREV.!H10 -> 3000 | D12: ='1^ NOTA CASSA'!AN17 -> 0 | E12: =RR.PP.!X$41 -> 0 | F12: =D12+E12 -> 0 | H12: =IMPEGNI!L16 -> 0 | I12: =BIL.PREV.!H10 -> 3000 | J12: =I12-#REF! -> #REF! | L12: =IMPEGNI!J16 -> 0 | M12: =IF(L12<0,"1","") | N12: =C12-F12-L12 -> 3000 | O12: =IF(N12<0,"1","")
A13: =BIL.PREV.!F11 -> uu36 | B13: =BIL.PREV.!G11 -> Spese funzionamento segreteria-consulenza e collaborazioni professionali | C13: =BIL.PREV.!H11 -> 1500 | D13: ='1^ NOTA CASSA'!AN18 -> 0 | E13: =RR.PP.!Y$41 -> 0 | F13: =D13+E13 -> 0 | H13: =IMPEGNI!L17 -> 0 | I13: =BIL.PREV.!H11 -> 1500 | J13: =I13-#REF! -> #REF! | L13: =IMPEGNI!J17 -> 0 | M13: =IF(L13<0,"1","") | N13: =C13-F13-L13 -> 1500 | O13: =IF(N13<0,"1","")
A14: =BIL.PREV.!F12 -> uu37 | B14: =BIL.PREV.!G12 -> Spese e Oneri Servizio Civile | C14: =BIL.PREV.!H12 -> 2500 | D14: ='1^ NOTA CASSA'!AN19 -> 0 | E14: =RR.PP.!Z$41 -> 0 | F14: =D14+E14 -> 0 | H14: =IMPEGNI!L18 -> 0 | I14: =BIL.PREV.!H12 -> 2500 | J14: =I14-#REF! -> #REF! | L14: =IMPEGNI!J18 -> 0 | M14: =IF(L14<0,"1","") | N14: =C14-F14-L14 -> 2500 | O14: =IF(N14<0,"1","")
A15: =BIL.PREV.!F13 -> uu38 | B15: =BIL.PREV.!G13 -> Spese gestione, manut. e riparazione automezzo e attrezz. | C15: =BIL.PREV.!H13 -> 4675.57 | D15: ='1^ NOTA CASSA'!AN20 -> 0 | E15: =RR.PP.!AA$41 -> 0 | F15: =D15+E15 -> 0 | H15: =IMPEGNI!L19 -> 0 | I15: =BIL.PREV.!H13 -> 4675.57 | J15: =I15-#REF! -> #REF! | L15: =IMPEGNI!J19 -> 0 | M15: =IF(L15<0,"1","") | N15: =C15-F15-L15 -> 4675.57 | O15: =IF(N15<0,"1","")
A16: =BIL.PREV.!F14 -> uu39 | B16: =BIL.PREV.!G14 -> Spese forfettarie compartecip.forniture luce, acqua e gas | C16: =BIL.PREV.!H14 -> 100 | D16: ='1^ NOTA CASSA'!AN21 -> 0 | E16: =RR.PP.!AB$41 -> 0 | F16: =D16+E16 -> 0 | H16: =IMPEGNI!L20 -> 0 | I16: =BIL.PREV.!H14 -> 100 | J16: =I16-#REF! -> #REF! | L16: =IMPEGNI!J20 -> 0 | M16: =IF(L16<0,"1","") | N16: =C16-F16-L16 -> 100 | O16: =IF(N16<0,"1","")
A17: =BIL.PREV.!F15 -> uu40 | B17: =BIL.PREV.!G15 -> Spese di assicurazione | C17: =BIL.PREV.!H15 -> 1700 | D17: ='1^ NOTA CASSA'!AN22 -> 0 | E17: =RR.PP.!AC$41 -> 0 | F17: =D17+E17 -> 0 | H17: =IMPEGNI!L21 -> 0 | I17: =BIL.PREV.!H15 -> 1700 | J17: =I17-#REF! -> #REF! | L17: =IMPEGNI!J21 -> 0 | M17: =IF(L17<0,"1","") | N17: =C17-F17-L17 -> 1700 | O17: =IF(N17<0,"1","")
A18: =BIL.PREV.!F16 -> uu41 | B18: =BIL.PREV.!G16 -> Spese telefono - postali e valori bollati | C18: =BIL.PREV.!H16 -> 2200 | D18: ='1^ NOTA CASSA'!AN23 -> 0 | E18: =RR.PP.!AD$41 -> 0 | F18: =D18+E18 -> 0 | H18: =IMPEGNI!L22 -> 0 | I18: =BIL.PREV.!H16 -> 2200 | J18: =I18-#REF! -> #REF! | L18: =IMPEGNI!J22 -> 0 | M18: =IF(L18<0,"1","") | N18: =C18-F18-L18 -> 2200 | O18: =IF(N18<0,"1","")
A19: =BIL.PREV.!F17 -> uu42 | B19: =BIL.PREV.!G17 -> Spese per pulizia ed affitto locali | C19: =BIL.PREV.!H17 -> 100 | D19: ='1^ NOTA CASSA'!AN24 -> 0 | E19: =RR.PP.!AE$41 -> 0 | F19: =D19+E19 -> 0 | H19: =IMPEGNI!L23 -> 0 | I19: =BIL.PREV.!H17 -> 100 | J19: =I19-#REF! -> #REF! | L19: =IMPEGNI!J23 -> 0 | M19: =IF(L19<0,"1","") | N19: =C19-F19-L19 -> 100 | O19: =IF(N19<0,"1","")
A20: =BIL.PREV.!F18 -> uu43 | B20: =BIL.PREV.!G18 -> Spese per acquisto attrezzature e arredi | C20: =BIL.PREV.!H18 -> 500 | D20: ='1^ NOTA CASSA'!AN25 -> 0 | E20: =RR.PP.!AF$41 -> 0 | F20: =D20+E20 -> 0 | H20: =IMPEGNI!L24 -> 0 | I20: =BIL.PREV.!H18 -> 500 | J20: =I20-#REF! -> #REF! | L20: =IMPEGNI!J24 -> 0 | M20: =IF(L20<0,"1","") | N20: =C20-F20-L20 -> 500 | O20: =IF(N20<0,"1","")
A21: =BIL.PREV.!F19 -> uu44 | B21: =BIL.PREV.!G19 -> Spese di cancelleria e gestione ufficio | C21: =BIL.PREV.!H19 -> 1500 | D21: ='1^ NOTA CASSA'!AN26 -> 0 | E21: =RR.PP.!AG$41 -> 0 | F21: =D21+E21 -> 0 | H21: =IMPEGNI!L25 -> 0 | I21: =BIL.PREV.!H19 -> 1500 | J21: =I21-#REF! -> #REF! | L21: =IMPEGNI!J25 -> 0 | M21: =IF(L21<0,"1","") | N21: =C21-F21-L21 -> 1500 | O21: =IF(N21<0,"1","")
A22: =BIL.PREV.!F20 -> uu45 | B22: =BIL.PREV.!G20 -> Oneri fiscali e tributari | C22: =BIL.PREV.!H20 -> 150 | D22: ='1^ NOTA CASSA'!AN27 -> 0 | E22: =RR.PP.!AH$41 -> 0 | F22: =D22+E22 -> 0 | H22: =IMPEGNI!L26 -> 0 | I22: =BIL.PREV.!H20 -> 150 | J22: =I22-#REF! -> #REF! | L22: =IMPEGNI!J26 -> 0 | M22: =IF(L22<0,"1","") | N22: =C22-F22-L22 -> 150 | O22: =IF(N22<0,"1","")
A23: =BIL.PREV.!F21 -> uu46 | B23: =BIL.PREV.!G21 -> Oneri Bancari | C23: =BIL.PREV.!H21 -> 500 | D23: ='1^ NOTA CASSA'!AN28 -> 29.94 | E23: =RR.PP.!AI$41 -> 0 | F23: =D23+E23 -> 29.94 | H23: =IMPEGNI!L27 -> 0 | I23: =BIL.PREV.!H21 -> 500 | J23: =I23-#REF! -> #REF! | L23: =IMPEGNI!J27 -> 0 | M23: =IF(L23<0,"1","") | N23: =C23-F23-L23 -> 470.06 | O23: =IF(N23<0,"1","")
